BEGIN:VCALENDAR
PRODID:-//eluceo/ical//2.0/EN
VERSION:2.0
CALSCALE:GREGORIAN
BEGIN:VEVENT
UID:f17f0d3accbba21b2ed01020b3fd3cef
DTSTAMP:20260423T130015Z
SUMMARY:Elevator Pitch: Jak zaujmout v jedné minutě
DESCRIPTION:Název akce: Elevator Pitch: Jak zaujmout v jedné minutě\nURL
 : https://www.spcr.cz/elevator-pitch-jak-zaujmout-v-jedne-minute\nPopis: \
 n\n•    Naučte se přesvědčivě představit svůj projekt během 
 jedné minuty•    Zlepšete neverbální komunikaci\, hlas a působi
 vost prezentace•    Přizpůsobte svůj pitch různým situacím a t
 ypům publika•    Získejte individuální zpětnou vazbu a hotovou 
 verzi pitch•    Buďte #Ready2Export. Získejte know-how a expandujt
 e do světaZveme Vás na další ze série online kurzů #Ready2Export př
 ipravených agenturou CzechTrade vhodných pro malé a střední podniky p
 lánující expanzi do zahraničí. Na seminářích se dozvíte\, jak si 
 nastavit exportní strategii\, připravit přesvědčivé marketingové ma
 teriály\, zvládnout obchodní jednání i online schůzky a vyhnout se 
 častým chybám.Podrobné informace k akci k dispozici zde. \n
URL:https://www.spcr.cz/elevator-pitch-jak-zaujmout-v-jedne-minute
DTSTART:20251210T090000
DTEND:20251210T150000
LOCATION:CzechTrade\, Štepánská 567/15\, 12000 Praha 2\, Česká republi
 ka
END:VEVENT
END:VCALENDAR
