BEGIN:VCALENDAR
PRODID:-//eluceo/ical//2.0/EN
VERSION:2.0
CALSCALE:GREGORIAN
BEGIN:VEVENT
UID:2c194125ae156604bda07acd6099644d
DTSTAMP:20260423T163435Z
SUMMARY:Čínský automotive - webinář
DESCRIPTION:Název akce: Čínský automotive - webinář\nURL: https://www
 .spcr.cz/cinsky-automotive-webinar\nPopis: \n\nWebinář ze série "Obchod
 ní kompas velvyslanectví ČR v Pekingu - Navigace na čínském trhu" p
 řinese detailní pohled na čínský automotive průmysl. Jeho realitu\, 
 fakta\, mýty\, ale i výhled do budoucnosti představí tři prezentujíc
 í\, konkrétně:Zdeněk Štěpánek\, vedoucí Interní a CEO komunikace 
 ve společnosti Volkswagen Group China v PekinguShawn Wang\, country manag
 er společnosti BYD pro Českou a Slovenskou republiku (prezentace v angli
 čtině)Jan Čížek\, strategický konzultant s osmiletou zkušeností v 
 Číně nyní pracující na projektech mezi Evropou a Čínou se zaměře
 ním na automotivePřipojit se můžete dne 22. září od 9 hodin české
 ho času (15 hodin pekingského času). Webinář potrvá dohromady i s pr
 ostorem na dotazy přibližně hodinu a půl\, účast na něm je zdarma.R
 egistrovat se můžete zde. V případě jakýchkoliv dotazů neváhejte 
 kontaktovat politicko-ekonomickou část velvyslanectví ČR v Pekingu na 
 e-mailu: beijing.commerce@mzv.gov.cz\n
URL:https://www.spcr.cz/cinsky-automotive-webinar
DTSTART:20250922T090000
DTEND:20250922T110000
LOCATION:
END:VEVENT
END:VCALENDAR
