BEGIN:VCALENDAR
PRODID:-//eluceo/ical//2.0/EN
VERSION:2.0
CALSCALE:GREGORIAN
BEGIN:VEVENT
UID:c2d0a49a8d6d937554a9f094a07ec135
DTSTAMP:20260423T125357Z
SUMMARY:2025 China-Czech Business Summit
DESCRIPTION:Název akce: 2025 China-Czech Business Summit\nURL: https://www
 .spcr.cz/2025-china-czech-business-summit\nPopis: \nOver 60 Chinese exhibi
 tors are interested in expanding markets and finding distribution partners
 \, but also looking for sourcing and investment opportunities.\nThe 2025 C
 hina-Czech Business Summit is going to be held at Kongresák Space\, Brno 
 on 6th October\, on the eve of the 66th MSV International Industrial Fai
 r\, to help business executives from Czech and CEECs to explore trade and 
 investment opportunities in machinery industries with Chinese counterparts
 .A delegation of over 60 Chinese exhibitors\, representing the largest ove
 rseas delegation to MSV and a wide range of machinery segments\, such as m
 etal-working and forming machines & tools\, materials and components for m
 echanical engineering\, plastics\, rubber and composites\, hydraulic and p
 neumatic drives\, power engineering\, foundry\, welding\, quadruped robots
 \, etc.\, will join the summit. Members of the delegation are not only int
 erested in expanding markets and finding distribution partners\, but also 
 looking for sourcing and investment opportunities.Programs of the summit i
 nclude opening remarks by government and industry leaders\, panel discussi
 ons on new drivers of China-Czech cooperation and opportunities for indust
 rial cooperation in the time of green transition\, as well as corporate ro
 adshow by leading enterprises and one-on-one business matchmaking.The summ
 it will be hosted by the Chinese Embassy in the Czech Republic and the Min
 istry of Industry and Trade of the Czech Republic\, and co-organized by Cz
 echTrade\, Trade Development Bureau of Ministry of Commerce of P. R. China
 \, Confederation of Industry of the Czech Republic\, Engineering Technolog
 y Association\, Regional Chamber of Commerce for South Moravia\, Brno Regi
 onal Chamber of Commerce\, Association of Chinese-invested Enterprises in 
 the Czech Republic\, CCPIT Machinery Sub-Council\, CMEC International Exhi
 bition Co. Ltd.\, Zhejiang Broad International Convention & Exhibition Co.
  Ltd.To register\, please send the Registration Form ⇣⇣⇣
  to cz@mofcom.gov.cn by 26th of September\, 2025. \n
URL:https://www.spcr.cz/2025-china-czech-business-summit
DTSTART:20251006T150000
DTEND:20251006T200000
LOCATION:Kongresové centrum Brno
END:VEVENT
END:VCALENDAR
