BEGIN:VCALENDAR
PRODID:-//eluceo/ical//2.0/EN
VERSION:2.0
CALSCALE:GREGORIAN
BEGIN:VEVENT
UID:53976751f0a2594f2ff8ced49dc52ead
DTSTAMP:20260423T232356Z
SUMMARY:Udržitelnost a soběstačnost v obraně
DESCRIPTION:Název akce: Udržitelnost a soběstačnost v obraně\nURL: htt
 ps://www.spcr.cz/udrzitelnost-sobestacnost-v-obrane\nPopis: \n\nČeský op
 tický klastr a Univerzita obrany zvou na odbornou konferenci\, která se 
 zaměří na jeden z nejzásadnějších trendů současné obranné polit
 iky – udržitelnost a životní cyklus obranných systémů\, se zvláš
 tním důrazem na roli optoelektroniky jako strategické kapacity České 
 republiky.Konference proběhne 23.–24. září 2025 v prostorách Klubu 
 Univerzity obrany v Brně a nabídne dvoudenní program plný odborných v
 ystoupení\, diskusí i networkingu.Téma konference: Komplexní zabezpe
 čení celého životního cyklu obranných technologií – od vývoje a 
 výroby přes integraci a provoz až po servis\, modernizaci a logistickou
  podporu.Pro koho je určena: Zástupci obranného průmyslu\, odborníci
  z akademické sféry\, zástupci státní správy i členové ozbrojenýc
 h sil.Jedním z hlavních řečníků bude Jan Rafaj\, prezident Svazu pr
 ůmyslu a dopravy ČR\, který ve svém příspěvku otevře téma příle
 žitostí pro český průmysl v kontextu transformace ekonomiky a jeho za
 pojení do budování soběstačných obranných kapacit.Další vystupuj
 ící:Brig. gen. Jan Farlík – rektor Univerzity obranyRNDr. Jiří Hyne
 k – prezident Asociace obranného a bezpečnostního průmyslu ČRdoc. T
 eodor Baláž – odborník na životní cyklus optoelektroniky v AČRFili
 p Chlup (PRAMACOM-HT)\, Libor Švéda (Elya Solutions)\, Jan Kubát (Crytu
 r)\, Jan Vanda (HiLASE)...a řada dalších expertů z univerzit\, firem i
  státních institucíSoučástí programu bude také panelová diskuse a 
 společenský večer\, které nabídnou další prostor pro výměnu názo
 rů a navazování spolupráce.Účast je zdarma\, je však nutné se zare
 gistrovat do 17. září 2025 prostřednictvím formuláře. \n
URL:https://www.spcr.cz/udrzitelnost-sobestacnost-v-obrane
DTSTART:20250923T130000
DTEND:20250924T120000
LOCATION:Klub Univerzity obrany\, Šumavská 2\, Brno
END:VEVENT
END:VCALENDAR
