BEGIN:VCALENDAR
PRODID:-//eluceo/ical//2.0/EN
VERSION:2.0
CALSCALE:GREGORIAN
BEGIN:VEVENT
UID:c8e1504e8b2ebfd384e5ea8069af1b6a
DTSTAMP:20260423T163428Z
SUMMARY:Investment Forum: Indonesia–Czech Business and Investment Opportu
 nities 2025
DESCRIPTION:Název akce: Investment Forum: Indonesia–Czech Business and I
 nvestment Opportunities 2025\nURL: https://www.spcr.cz/investment-forum-in
 donesia-czech-business-and-investment-opportunities-2025\nPopis: \nDovoluj
 eme si Vás pozvat na Investiční fórum pořádané Velvyslanectvím Ind
 onéské republiky.Akce s názvem Investment Forum: Indonesia–Czech Busi
 ness and Investment Opportunities 2025 se uskuteční dne 9. října 2025 
 v rámci Mezinárodního strojírenského veletrhu v Brně.Investiční f
 órum představuje jedinečnou příležitost seznámit se s aktuálními 
 obchodními a investičními možnostmi na indonéském trhu.Registrovat s
 e můžete přes QR kód\, který naleznete na přiloženém letáku. \n\
 n
URL:https://www.spcr.cz/investment-forum-indonesia-czech-business-and-inves
 tment-opportunities-2025
DTSTART:20251009T100000
DTEND:20251009T120000
LOCATION:Brno
END:VEVENT
END:VCALENDAR
