BEGIN:VCALENDAR
PRODID:-//eluceo/ical//2.0/EN
VERSION:2.0
CALSCALE:GREGORIAN
BEGIN:VEVENT
UID:8a00042ba8f602b319b80848817b26d1
DTSTAMP:20260423T094936Z
SUMMARY:Stavební veletrh - BUILDEX Damašek 2025
DESCRIPTION:Název akce: Stavební veletrh - BUILDEX Damašek 2025\nURL: ht
 tps://www.spcr.cz/stavebni-veletrh-buildex-damasek-2025\nPopis: \nDovoluje
 me si Vás pozvat k účasti na 23. ročníku veletrhu BUILDEX Damascus\, 
 přední syrské výstavy stavebnictví a stavebních materiálů\, která
  se uskuteční ve dnech 15.–19. prosince 2025 na výstavišti v Damašk
 u.BUILDEX patří mezi nejvýznamnější regionální akce věnované sta
 vebnictví a sektoru stavebních materiálů a nadále slouží jako klí
 čová platforma pro odborníky z celého Blízkého východu a Afriky. V
 ýstava sdružuje výrobce\, dodavatele\, odběratele\, stavební podniky\
 , distributory i zástupce státních institucí pod jednou střechou. Hl
 avní body BUILDEX 2025:více než 850 vystavovatelůpřes 30 000 odborný
 ch návštěvníkůúčast více než 30 zemí\, včetně Sýrie\, Turecka
 \, Saúdské Arábie\, SAE\, Egypta\, Číny\, Německa\, Francie\, Indie 
 a Velké Británie. Pro registraci a více informací kontaktujte - tarek
 .alamer@pyramidsfair.com\n\n
URL:https://www.spcr.cz/stavebni-veletrh-buildex-damasek-2025
DTSTART:20251215T000000
DTEND:20251219T235900
LOCATION:Damascus Fairground
END:VEVENT
END:VCALENDAR
