BEGIN:VCALENDAR
PRODID:-//eluceo/ical//2.0/EN
VERSION:2.0
CALSCALE:GREGORIAN
BEGIN:VEVENT
UID:4dbba14f468e0276eef83f99725e6e4a
DTSTAMP:20260423T125335Z
SUMMARY:AI: právo\, byznys\, budoucnost
DESCRIPTION:Název akce: AI: právo\, byznys\, budoucnost\nURL: https://www
 .spcr.cz/ai-pravo-byznys-budoucnost\nPopis: \n\nZveme vás na konferenci 
 „Umělá inteligence: právo\, byznys\, budoucnost“\, která se koná 
 pod záštitou projektu EDIH CTU (Evropské centrum pro digitální inovac
 e).Konference se uskuteční v pondělí 13. října 2025 od 9:00 v prosto
 rách FUTUREUM\, Vítkovice 3044\, 703 00\, Ostrava. Prezence proběhne ji
 ž od 8:30.Akce nabídne pohled na umělou inteligenci z různých úhlů\
 , od právních aspektů až po její praktické využití v průmyslu a b
 yznysu. Mezi přednášejícími se můžete těšit na:Dominik Šolc\, FO
 RLEX s.r.o.\, advokátní kancelář – jeho přednáška se zaměří na
  AI a právo. Dozvíte se\, jaké právní otázky s sebou nese využívá
 ní AI a co přináší nový AI Act.Kamil Košťál\, Key2Business s.r.o.
  – ukáže\, jak mohou LLM modely sloužit jako „digitální kolega“
  ve strojírenství. Uvidíte konkrétní příklady\, jak AI pomáhá zry
 chlit rozhodování a podpořit inovace ve výrobních firmách.Lumír Kun
 ath\, BR Group a.s. – ve své prezentaci s názvem „Praktický příst
 up k umělé inteligenci v průmyslu“ se podělí o reálné zkušenosti
  s nasazováním AI v IT a firemních procesech\, které přináší měř
 itelné výsledky již dnes.David Pešek\, EDIH CTU – jak urychlit cestu
  k digitální transformaci.Přesný program naleznete v sekci Ke stažen
 í. ⇣⇣⇣Registrujte se zdarma do 9. října 2025 \n
URL:https://www.spcr.cz/ai-pravo-byznys-budoucnost
DTSTART:20251013T090000
DTEND:20251013T133000
LOCATION:FUTUREUM\, Vítkovice 3044\, 703 00\, Ostrava
END:VEVENT
END:VCALENDAR
