BEGIN:VCALENDAR
PRODID:-//eluceo/ical//2.0/EN
VERSION:2.0
CALSCALE:GREGORIAN
BEGIN:VEVENT
UID:63087b9777858484fe072d3dc3efb2ba
DTSTAMP:20260423T124857Z
SUMMARY:EU-Nový Zéland - Business Summit 
DESCRIPTION:Název akce: EU-Nový Zéland - Business Summit \nURL: https://
 www.spcr.cz/eu-novy-zeland-business-summit\nPopis: \n\nZveme Vás na Busin
 ess Summit EU–Nový Zéland\, který se uskuteční ve dnech 23.–24. 
 října 2025 v Aucklandu. Akce nabídne jedinečnou příležitost objevit
 \, jak mohou evropské a novozélandské zkušenosti a inovace vést k pr
 ůlomové spolupráci v oblasti čisté energie\, agritechu a nových tech
 nologií.Na programu summitu budou odborné panelové diskuse věnované o
 bchodu\, investicím a inovacím\, setkání s předními představiteli p
 olitiky a byznysu\, networkingové příležitosti a doprovodné společen
 ské akce. Summit se rovněž zaměří na další klíčová témata\, v
 četně infrastruktury\, digitálního zdravotnictví\, čistých technolo
 gií\, leteckého a obranného průmyslu.Součástí summitu je rovněž n
 ěkolik doprovodných akcí. Polské velvyslanectví ve Wellingtonu s part
 nery z regionu střední a východní Evropy\, včetně Velvyslanectví Č
 R v Canbeře\, pořádá 23. října networkingový oběd a B2B setkání 
 s novozélandskými firmami a institucemi. Téhož dne ráno připravuje F
 rancouzsko-novozélandská bilaterální obchodní komora akci věnovanou 
 udržitelnému rozvoji. Na 24. října pak plánuje Maďarské velvyslanec
 tví ve Wellingtonu ve spolupráci s Auckland Business Chamber panelovou d
 iskusi za účasti velvyslanců čtyř zemí střední a východní Evropy
 \, včetně České republiky.Podrobný program summitu naleznete zde.V p
 řípadě zájmu o účast prosím kontaktujte Velvyslanectví České rep
 ubliky v Canbeře:Milan Vágner\, Minister Counsellor Economy and Trade
 📞 +61 2 6290 1386 | 📱 +61 474 132 528✉️ milan.vagner@mzv.gov.cz\
 n
URL:https://www.spcr.cz/eu-novy-zeland-business-summit
DTSTART:20251023T080000
DTEND:20251024T180000
LOCATION:Auckland
END:VEVENT
END:VCALENDAR
