BEGIN:VCALENDAR
PRODID:-//eluceo/ical//2.0/EN
VERSION:2.0
CALSCALE:GREGORIAN
BEGIN:VEVENT
UID:f6405cbcded774a71913308b1c93a6a7
DTSTAMP:20260423T163341Z
SUMMARY:Sklářské svítání 2025
DESCRIPTION:Název akce: Sklářské svítání 2025\nURL: https://www.spcr
 .cz/sklarske-svitani-2025\nPopis: \n\nMuzeum skla a bižuterie a Svaz prů
 myslu a dopravy ČR srdečně zvou k diskuzi zástupce sklářského prům
 yslu\, odborníky\, studenty i veřejnost. Tématem letošního ročníku 
 Sklářského svítání je reakce sklářského průmyslu na klimatické 
 změny a využití moderních technologiích ve skleněných interaktivní
 ch instalacích. VystoupíVlastimil Hotář\, TULStřepové hospodářstv
 í jako klíč k eko výroběPetr Novák\, AGCProjekt VoltaRadek Lipový\,
  VETROPACKUdržitelnost a efektivita při výrobě obalového sklaJan Rabe
 ll\, Sklárna Janštejn Glass GroupBROKISGLASSMarcel Mochal\, LLEVOd houba
 ření po designInteraktivní skleněné instalacePavel Čumpelek\, AGCSkl
 ářská řešení „Wave by AGC“Lucie Karlová\, PRECIOSA LIGHTINGBýt
  IN je INPavel Sedlák\, Petra Junová\, LASVITSklo v pohybu – Dynamick
 é instalace LasvituKapacita sálu je omezena. K účasti je nutná regist
 race ZDE.Akce se koná za podpory Ministerstva kultury ČR\, Libereckého 
 kraje\, města Jablonec nad Nisou a dalších partnerů. \n
URL:https://www.spcr.cz/sklarske-svitani-2025
DTSTART:20251013T130000
DTEND:20251013T160000
LOCATION:Muzeum skla a bižuterie\, U Muzea 398/4\, Jablonec nad Nisou
END:VEVENT
END:VCALENDAR
