BEGIN:VCALENDAR
PRODID:-//eluceo/ical//2.0/EN
VERSION:2.0
CALSCALE:GREGORIAN
BEGIN:VEVENT
UID:61c6aa348e4ea40a93438e2e14dd48eb
DTSTAMP:20260423T130810Z
SUMMARY:Poradní sbor OIP Plzeňského kraje – Co vás zajímá 2
DESCRIPTION:Název akce: Poradní sbor OIP Plzeňského kraje – Co vás z
 ajímá 2\nURL: https://www.spcr.cz/poradni-sbor-oip-plzenskeho-kraje-co-v
 as-zajima-2\nPopis: \nSetkání zaměstnavatelů s odborníky Oblastního 
 inspektorátu práce pro Plzeňský kraj a Karlovarský kraj se tentokrát
  zaměří na BOZP.   \nSetkání zaměstnavatelů s odborníky Oblastn
 ího inspektorátu práce pro Plzeňský kraj a Karlovarský kraj se koná
  za účelem sdílení poznatků a zkušeností\, osvěty a prevence. Disk
 uzní fórum je tentokrát zaměřeno na BOZP. V průběhu akce je pro Vá
 s připraveno malé překvapení.PROGRAM novinky v legislativěshrnutí p
 racovních úrazů s poučením  nový způsob evidence pracovních úraz
 ů a nový způsob hlášení pracovních úrazů od 1.1.2026úrazy žák
 ů a studentůSINGING ROCK s.r.o. - přední světový výrobce lezeckého
  vybavení a osobních ochranných prostředků\, provozovatel výcvikový
 ch polygonů pro práce ve výškách\, nad volnou hloubkou a ve stísněn
 ých prostorechPŘEDNÁŠEJÍCÍJUDr. Jana Werdanová\, vedoucí inspektor
 ka OIP pro Plzeňský kraj a Karlovarský krajMgr. Michaela Brožová\, ve
 doucí právního oddělení OIP pro Plzeňský kraj a Karlovarský krajBc
 . Jaroslav Chlad\, vedoucí oddělení BOZP OIP pro Plzeňský kraj a Karl
 ovarský krajBc. Daniel Černý\, MBA\, obchodního zástupce divize Prác
 e ve výšce\, SINGING ROCK s.r.o.Jaroslav Pašek\, školitel pro práci v
 e výšce a nad volnou hloubkou\, provozovatel polygonu v Karlových Varec
 h\, SINGING ROCK s.r.o.ČASOVÝ HARMONOGRAM08:45 – 09:00 Registrace úč
 astníků\, ranní káva09:00 – 10:30 Úvod\, 1. informační blok OIP10
 :30 – 10:45 Coffee break10:45 – 12:00 2. informační blok OIP12:00 
 – 12:45 představení firmy SINGING ROCK s.r.o.\, závěrREGISTRACENa ak
 ci se\, prosím\, registrujte zde do 10. listopadu 2025. Kapacita omezena 
 na 35 účastníků.V případě dotazů se prosím obraťte na regionáln
 í kancelář Svazu průmyslu a dopravy ČR pro Plzeňský a Jihočeský k
 raj\, Bc. Kamilu Babuškovou\, e-mail: kbabuskova@spcr.cz\, mobil: 733 643
  518.\n
URL:https://www.spcr.cz/poradni-sbor-oip-plzenskeho-kraje-co-vas-zajima-2
DTSTART:20251118T090000
DTEND:20251118T124500
LOCATION:Hotel Lions Plzeň\, Zborovská 18\, 301 00 Plzeň
END:VEVENT
END:VCALENDAR
