BEGIN:VCALENDAR
PRODID:-//eluceo/ical//2.0/EN
VERSION:2.0
CALSCALE:GREGORIAN
BEGIN:VEVENT
UID:7cc428a2646384e0022ed9e253410e39
DTSTAMP:20260423T125335Z
SUMMARY:Fórum EU–GCC v Kuvajtu
DESCRIPTION:Název akce: Fórum EU–GCC v Kuvajtu\nURL: https://www.spcr.c
 z/forum-eu-gcc-v-kuvajtu\nPopis: \nJménem Odboru ekonomicko-vědecké dip
 lomacie Ministerstva zahraničních věcí ČR Vás srdečně zveme k úč
 asti na 9. podnikatelském fóru EU–GCC\, které se uskuteční ve dnech
  5. - 6. listopadu 2025 v Kuvajtu.\nTato prestižní událost propojí zá
 stupce vlád\, soukromého sektoru a inovačního prostředí s cílem roz
 víjet obchodní a investiční spolupráci mezi Evropskou unií a Radou p
 ro spolupráci v Zálivu (GCC). Fórum se zaměří na klíčová témata 
 současné globální ekonomiky\, jako jsou digitální transformace\, zel
 ená ekonomika\, udržitelná energetika\, potravinová bezpečnost\, odol
 né dodavatelské řetězce\, infrastruktura a inovace ve zdravotnictví.
  Hlavní cíle fóra:Rozvíjet společné ambice a naplňovat cíle dohod
 nuté mezi lídry EU a GCC.Podporovat obchod a investice prostřednictvím
  lepšího přístupu na trhy a nových příležitostí.Přenášet disku
 se do konkrétních řešení a praktických kroků napříč různými se
 ktory.Za EU je potvrzena účast komisaře pro obchod pana Maroše Šefčo
 viče\, zvláštního zástupce Evropské unie pro oblast Perského záliv
 u pana Luigiho Di Maia\, viceprezidenta EIB pana Ioannise Tsakirise a dal
 ších vysokých představitelů členských států. Za mezinárodní org
 anizace budou zastoupeny UNDP\, IMF\, Světová banka a OECD.Účast na f
 óru představuje jedinečnou příležitost pro české firmy\, jak se za
 pojit do dialogu na nejvyšší úrovni\, navázat nové obchodní kontakt
 y a získat přehled o aktuálních trendech a možnostech spolupráce s r
 egionem Perského zálivu.V rámci programu proběhnou tyto tematické sek
 ce:Trade & InvestmentDigital Economy & AIBusinesses\, SMEs & SkillsNew Ave
 nues of Cooperationa dvě soustředěné investiční sekce:Investment Fac
 ilitation & Market Access – dialogue with GCC investment authoritiesDire
 ct Investment & Co-Investment Opportunities – EU investors/EIB with GCC 
 sovereign funds and state holdings.V případě zájmu o účast nebo o v
 íce informací prosíme kontaktujte odbor Ekonomicko-vědecké diplomacie
  na MZV\, paní Jana Seková\, email: jana.sekova@mzv.gov.cz nebo export@m
 zv.gov.cz\, tel. +420 224 182 672.Registrace je možná prostřednictvím 
 tohoto odkazu:EU-GCC Business Forum - 5&6 November 2025 \n
URL:https://www.spcr.cz/forum-eu-gcc-v-kuvajtu
DTSTART:20251105T080000
DTEND:20251106T180000
LOCATION:Dauhá
END:VEVENT
END:VCALENDAR
