BEGIN:VCALENDAR
PRODID:-//eluceo/ical//2.0/EN
VERSION:2.0
CALSCALE:GREGORIAN
BEGIN:VEVENT
UID:12e61b25cbfcb5f8cc7ae83b44460f34
DTSTAMP:20260423T163428Z
SUMMARY:Supplier Webinar - World Bank
DESCRIPTION:Název akce: Supplier Webinar - World Bank\nURL: https://www.sp
 cr.cz/supplier-webinar-world-bank\nPopis: \n\nWhether you’ve worked in W
 orld Bank financed projects before or recently registered as a new supplie
 r\, we’re excited to invite you to the World Bank’s Virtual Global Sup
 plier Webinar.This session will provide an overview of upcoming procuremen
 t opportunities in Energy\, Transport\, and Water sectors\, which account 
 for over half of the international contracts in projects financed by the W
 orld Bank.You’ll also learn about recent enhancements to our procurement
  framework designed to make participation easier and more impactful for su
 ppliers of all sizes.Join us on October 9th on any of our two sessions ava
 ilable to accommodate global time zones: Session 1: 9:00 AM – 10:30 AM 
 (DC Time) Session 2: 9:00 PM – 10:30 PM (DC Time)Agenda Overview:Welcom
 e RemarksProcurement Framework UpdatesSector Opportunities: Water\, Energy
 \, TransportSupplier ResourcesLive Q&AClosing RemarksRegister here: Sessi
 on 1:October 9th 15:00 - 16:30 (UTC+02:00) 🔗Register hereSession 2: 
 October 10th 3:00 - 4:30 (UTC+02:00) 🔗Register here \n
URL:https://www.spcr.cz/supplier-webinar-world-bank
DTSTART:20251009T150000
DTEND:20251009T163000
LOCATION:
END:VEVENT
END:VCALENDAR
