BEGIN:VCALENDAR
PRODID:-//eluceo/ical//2.0/EN
VERSION:2.0
CALSCALE:GREGORIAN
BEGIN:VEVENT
UID:f7e80362129854b5508a3271cca9f577
DTSTAMP:20260423T130015Z
SUMMARY:Firmy a výzkumná centra v jižních Čechách - kulatý stůl
DESCRIPTION:Název akce: Firmy a výzkumná centra v jižních Čechách - 
 kulatý stůl\nURL: https://www.spcr.cz/firmy-vyzkumna-centra-v-jiznich-ce
 chach-kulaty-stul\nPopis: \n\nSvaz průmyslu a dopravy ČR ve spolupráci
  s Jihočeským vědeckotechnickým parkem a Jihočeskou agenturou pro po
 dporu inovací si Vás v rámci projektu„Podpora národního\, odvětvo
 vého a regionálního sociálního dialogu v ČR“dovolují pozvat ke ku
 latému stolu na témaDiskuze o spolupráci jihočeských firem s přední
 mi výzkumně-vývojovými centry v Plzeňském krajiZveme vás na setkán
 í\, které propojí jihočeské firmy s předními výzkumně-vývojovým
 i centry Plzeňského kraje. V rámci programu se krátce představí Jiho
 český vědeckotechnický park (JVTP) a Jihočeská agentura pro podporu 
 inovačního podnikání (JAIP). Hlavní část akce bude věnována prez
 entaci tří špičkových VaV center – COMTES FHT a.s.\, Nové technolo
 gie – výzkumné centrum Západočeské univerzity v Plzni (NTC) a Centr
 um výzkumu Řež s.r.o.Účastníci získají přehled o možnostech spol
 upráce v oblasti inovací\, technologií a aplikovaného výzkumu. Souč
 ástí akce bude také prostor pro networking a navázání kontaktů mezi
  firmami a výzkumnými institucemi.Program08:45 – 09:00Registrace úča
 stníků09:00 – 09:15Úvod\, Svaz průmyslu a dopravy ČR09:15 – 09:45
 Jihočeský vědeckotechnický park\, Jihočeská agentura pro podporu ino
 vací09:45 – 10:20COMTES FHT a.s.10:20 – 10:45 Coffee break10:40 – 
 11:15Nové technologie – výzkumné centrum ZČU11:15 – 11:50Centrum v
 ýzkumu Řež\, s.r.o.11:50 – 12:45Prostor pro networkingREGISTRACENa ak
 ci se\, prosím\, registrujte do 5. listopadu 2025.V případě dotazů se
  prosím obraťte na regionální kancelář Svazu průmyslu a dopravy ČR
  pro Plzeňský a Jihočeský kraj\, Bc. Kamilu Babuškovou\, e-mail: kbab
 uskova@spcr.cz\, mobil: 733 643 518.\n
URL:https://www.spcr.cz/firmy-vyzkumna-centra-v-jiznich-cechach-kulaty-stul
DTSTART:20251113T090000
DTEND:20251113T124500
LOCATION:Jihočeský vědeckotechnický park\, Lipová 9\, 370 05 České B
 udějovice
END:VEVENT
END:VCALENDAR
