BEGIN:VCALENDAR
PRODID:-//eluceo/ical//2.0/EN
VERSION:2.0
CALSCALE:GREGORIAN
BEGIN:VEVENT
UID:6f83a62981e5bb52966d8864af52d376
DTSTAMP:20260423T163435Z
SUMMARY:Online HR klub - mzdový průzkum
DESCRIPTION:Název akce: Online HR klub - mzdový průzkum\nURL: https://ww
 w.spcr.cz/online-hr-klub-mzdovy-pruzkum\nPopis: \n\nGrafton Recruitment a 
 Gi Group CZ&SK představí online nový Mzdový průzkum 2025. Komentovat 
 ho bude CMO společnosti Jitka Kouba. „Naše každoroční vydání Mzd
 ového průzkumu opět přináší nejširší přehled o vývoji mezd v s
 oukromé sféře napříč Českou republikou. Letos jsme se zaměřili ne
 jen na výši mezd\, ale také na faktory\, které aktuálně určují jej
 ich vývoj – ať už jde o regionální rozdíly\, vývoj poptávky nebo
  změny na straně zaměstnavatelů. V průzkumu najdete nejen data z 13 k
 rajů\, analýzu téměř 350 pozic v 8 odvětvích\, ale také kapitolu A
 bsolventské mzdy a mzdová srovnání s předchozím rokem u vybraných p
 ozic v každém oboru. Průzkum byl realizován během 3. čtvrtletí 2025
 \,“ uvedla.Obsahem prezentace bude:Data z 13 krajůAnalýzu 350 pracovn
 ích pozic v 8 odvětvíchSpeciální kapitolu o mzdách absolventů (26 s
 tartovacích pozic)Meziroční porovnání vývoje mezd v každém oboruP
 řehled aktuální poptávky firem a trendů\, které určují výši mezd
 Podrobnosti a registrace \n
URL:https://www.spcr.cz/online-hr-klub-mzdovy-pruzkum
DTSTART:20251023T150000
DTEND:20251023T170000
LOCATION:
END:VEVENT
END:VCALENDAR
