BEGIN:VCALENDAR
PRODID:-//eluceo/ical//2.0/EN
VERSION:2.0
CALSCALE:GREGORIAN
BEGIN:VEVENT
UID:ef30cceda495aecfdade61c2102fdd21
DTSTAMP:20260423T150340Z
SUMMARY:Trade Expo Indonesia - Business Matching
DESCRIPTION:Název akce: Trade Expo Indonesia - Business Matching\nURL: htt
 ps://www.spcr.cz/trade-expo-indonesia-business-matching\nPopis: \nDovoluje
 me si vás pozvat na Business Matching program\, který pořádá Minister
 stvo obchodu Indonéské republiky a nabízí propojení mezi indonéským
 i exportéry a potenciálními zahraničními odběrateli v rámci veletrh
 u Trade Expo Indonesia (TEI) 2025\, který se uskuteční 15.–19. říjn
 a 2025 v Tangerangu\, Indonésie.Registrace do Business Matching programu 
 musí být dokončena nejpozději do 5. října 2025. Pro zájemce\, kteř
 í se nebudou moci zúčastnit osobně\, bude k dispozici také online ú
 čast prostřednictvím platformy Zoom. Velvyslanectví Indonéské repub
 liky v Praze je připraveno poskytnout asistenci a usnadnit proces registr
 ace všem zájemcům. Pro více informací prosím kontaktujte Velvyslane
 ctví na e-mailu: embassy@indonesia.cz.\n\n
URL:https://www.spcr.cz/trade-expo-indonesia-business-matching
DTSTART:20251015T000000
DTEND:20251019T235900
LOCATION:Tangerang
END:VEVENT
END:VCALENDAR
