BEGIN:VCALENDAR
PRODID:-//eluceo/ical//2.0/EN
VERSION:2.0
CALSCALE:GREGORIAN
BEGIN:VEVENT
UID:e2679ed586ef24b3b75cf0009c8ca4b4
DTSTAMP:20260423T162828Z
SUMMARY:EU–Západní Balkán: Investiční fórum 2025
DESCRIPTION:Název akce: EU–Západní Balkán: Investiční fórum 2025\n
 URL: https://www.spcr.cz/eu-zapadni-balkan-investicni-forum-2025\nPopis: \
 n\nEvropská komise zve firmy k účasti na Investičním Fóru EU–Zápa
 dní Balkán\, jehož cílem je posílit hospodářskou spolupráci a inve
 stiční příležitosti mezi státy EU a partnery ze Západního Balkánu
  (Albánie\, Bosna a Hercegovina\, Kosovo\, Černá Hora\, Severní Makedo
 nie a Srbsko).Fórum nabídne prostor pro:rozšíření tržních příle
 žitostí pro evropské firmy v rychle rostoucím regionu\,zvýšení náv
 ratnosti zahraničních investic v klíčových sektorech jako energetika\
 , digitalizace\, výroba\, bioekonomika a cestovní ruch\,posílení odoln
 osti dodavatelských řetězců díky blízké spolupráci s WB6 zeměmi\,
 získání konkurenční výhody v oblasti inovací a technologií. Fóru
 m je součástí širší strategie EU na podporu regionální integrace a
  udržitelného rozvoje.👉 Více informací a možnost registrace najdet
 e na odkaze zde: https://eu-wb6investmentforum.com/ \n
URL:https://www.spcr.cz/eu-zapadni-balkan-investicni-forum-2025
DTSTART:20251013T080000
DTEND:20251014T180000
LOCATION:Tirana
END:VEVENT
END:VCALENDAR
