BEGIN:VCALENDAR
PRODID:-//eluceo/ical//2.0/EN
VERSION:2.0
CALSCALE:GREGORIAN
BEGIN:VEVENT
UID:ad87d6b3d52f3bf48d50c88b93c9acf5
DTSTAMP:20260423T150053Z
SUMMARY:EU–Egypt Summit
DESCRIPTION:Název akce: EU–Egypt Summit\nURL: https://www.spcr.cz/eu-egy
 pt-summit\nPopis: \n\nOdbor ekonomicko-vědecké diplomacie Ministerstva z
 ahraničních věcí ČR si Vás dovoluje pozvat na první summit mezi Evr
 opskou unií a Egyptem\, který se uskuteční 22. října 2025 v Bruselu.
  V rámci summitu proběhne také podnikatelská akce\, jejímž cílem je
  posílit ekonomický rozměr strategického a komplexního partnerství.
  Tematické zaměření summitu:Energetická transformace\, čisté techn
 ologie\, udržitelná infrastruktura\, chytrá klimatická řešeníPrůmy
 slová transformace\, pokročilé technologie\, udržitelná výrobaInovac
 e a digitální technologie\, výzkum a vývoj\, inovativní podniky a sta
 rt-upyRozvoj dovedností\, odborné vzdělávání\, výzkumné instituce\
 , pracovní sílaFinanční a investiční instituce Program podnikatelsk
 é části (14:00-18:00)Building a Strategic Investment Corridor between E
 gypt and Europe – zaměření na makroekonomické reformy\, regulatorní
  prostředí a investiční výhody Egypta.Strengthening Industrial Compet
 itiveness and Sustainable Value Chains – prohlubování spolupráce EU
 –Egypt s cílem posílit konkurenceschopnost\, veřejné i soukromé inv
 estice a sladění s globálními trendy.Innovate to Elevate: Putting Rese
 arch and Innovation at the Heart of Competitiveness – diskuse o roli vý
 zkumu a inovací při posilování konkurenceschopnosti. Proč se zapojit
 Akce představuje jedinečnou příležitost pro české firmy a instituce
  k navázání nových kontaktů a k posílení spolupráce v oblastech\, 
 které jsou pro ČR i Egypt klíčové.Egypt je nejlidnatější země sev
 erní Afriky a klíčový uzel pro obchod mezi Evropou\, Afrikou a Blízk
 ým východem. Díky rozsáhlým investicím do energetiky\, infrastruktur
 y a digitalizace nabízí atraktivní příležitosti pro české firmy v 
 celé řadě odvětví. Zároveň se rozvíjí jako výrobní a logistick
 é centrum s přístupem na africké i arabské trhy.Summit se koná v bud
 ově Evropské komise (Charlemagne building\, Rue de la Loi 170\, 1000 Bru
 sel). Registrace je možná do 15. 10. 2025.V případě zájmu o účast 
 nebo o více informací prosíme kontaktujte odbor Ekonomicko-vědecké di
 plomacie na MZV\, paní Jana Seková\, email: jana.sekova@mzv.gov.cz\, tel
 . +420 224 182 672. \n
URL:https://www.spcr.cz/eu-egypt-summit
DTSTART:20251022T080000
DTEND:20251022T180000
LOCATION:Brusel
END:VEVENT
END:VCALENDAR
