BEGIN:VCALENDAR
PRODID:-//eluceo/ical//2.0/EN
VERSION:2.0
CALSCALE:GREGORIAN
BEGIN:VEVENT
UID:a44c5651adfac91b4b8cba182f58d06d
DTSTAMP:20260423T193110Z
SUMMARY:Dotační výzva Programu B2B - webinář
DESCRIPTION:Název akce: Dotační výzva Programu B2B - webinář\nURL: ht
 tps://www.spcr.cz/dotacni-vyzva-programu-b2b-webinar\nPopis: \n\nČeská r
 ozvojová agentura vyhlásila dotační výzvu pro přípravu a realizaci 
 projektů v rámci Programu rozvojového partnerství pro soukromý sektor
  (Program B2B) pro rok 2026. Zájemci se mohou připojit k online seminá
 ři pro potenciální žadatele\, který proběhne 8. října od 10:00. Do
 zví se podrobné informace o obsahu výzvy\, požadavcích na žadatele i
  administrativních náležitostech. Součástí bude také prostor pro do
 tazy.Registrační formulář k webinářiV Programu B2B mohou firmy získ
 at dotaci v režimu de minimis až 50 % celkových nákladů (nejvýše v
 šak 500 tis. korun) na přípravu studií proveditelnosti a podnikatelsk
 ých plánů nebo až 40 % celkových nákladů (nejvýše však 2 mil. ko
 run) na samotnou realizaci projektu. Cílem Programu B2B\, který spravuje
  Česká rozvojová agentura\, je zapojení soukromého sektoru do naplňo
 vání cílů zahraniční rozvojové spolupráce ČR.Podrobnosti o progra
 mu  \n
URL:https://www.spcr.cz/dotacni-vyzva-programu-b2b-webinar
DTSTART:20251008T100000
DTEND:20251008T120000
LOCATION:
END:VEVENT
END:VCALENDAR
