BEGIN:VCALENDAR
PRODID:-//eluceo/ical//2.0/EN
VERSION:2.0
CALSCALE:GREGORIAN
BEGIN:VEVENT
UID:7bcb7cb70c08bbd10b4eb0d26b6f3806
DTSTAMP:20260423T150421Z
SUMMARY:Aerospace fórum s kanadskými firmami v Praze a Uherském Hradišt
 i
DESCRIPTION:Název akce: Aerospace fórum s kanadskými firmami v Praze a U
 herském Hradišti\nURL: https://www.spcr.cz/aerospace-forum-s-kanadskymi-
 firmami-v-praze-uherskem-hradisti\nPopis: \n\nZveme Vás na aerospace netw
 orkingové fórum při příležitosti mise kanadských aerospace stakehol
 derů do České republiky. Akci pořádají Ministerstvo průmyslu a obch
 odu\, Velvyslanectví ČR v Ottawě\, CzechInvest a Czech Aerospace Clust
 er.Budete mít příležitost setkat se s partnery jako jsou: Aero Montr
 éal (klastr zastupující aerospace ekosystém v celém Québecu\, s d
 ůrazem na inovace)\, STRIX Aero (celokanadská instituce zaměřená na
  inovace a kolaborativní výzkum v aerospace\, Centre for Innovation and
  Research in Advanced Manufacturing and Materials/ DIANA testing centre a
  Centre for Innovation and Research in Unmanned Systems (obě výzkumná
  centra působí na Southern Alberta Institute of Technology)\, Mitsubish
 i Heavy Industries Canada Aerospace.Mise má za cíl rozvinout výzkumné 
 a inovační projekty\, podpořit spolupráci mezi českým a kanadským l
 eteckým sektorem a představit české kapacity v oboru. Součástí bud
 ou i prezentace Ministerstva průmyslu a obchodu\, Ministerstva dopravy\, 
 Czech Aerospace Cluster\, představení kanadské delegace a prostor pro n
 etworking při lehkém občerstvení.  Networkingové fórum v PrazeDatu
 m: 13.10.2025\, 10:00 – 12:00Místo: Ministerstvo průmyslu a obchodu 
 ČR\, Politických vězňů 20\, 110 00 PrahaRegistrace: https://forms.gl
 e/CEKcz7fpH78LeSZaA   Aerospace fórum v Uherském HradištiDatum: 15.1
 0.2025\, 9:00 -11:00Místo: Uherské Hradiště (přesné místo tbc)Regis
 trace: vdoubravska@aero-cluster.cz   V případě dotazů se prosím o
 bracejte emailem na:Marino RadačičVedoucí ekonomického úseku Velvysl
 anectví České republiky v Ottawě Email: marino.radacic@mzv.gov.cz  
 \n
URL:https://www.spcr.cz/aerospace-forum-s-kanadskymi-firmami-v-praze-uhersk
 em-hradisti
DTSTART:20251013T100000
DTEND:20251015T120000
LOCATION:Praha
END:VEVENT
END:VCALENDAR
