BEGIN:VCALENDAR
PRODID:-//eluceo/ical//2.0/EN
VERSION:2.0
CALSCALE:GREGORIAN
BEGIN:VEVENT
UID:19151da6ec7aa56b112d8a4f08fd4937
DTSTAMP:20260423T150422Z
SUMMARY:Blockchain ve fintechu - webinář
DESCRIPTION:Název akce: Blockchain ve fintechu - webinář\nURL: https://w
 ww.spcr.cz/blockchain-ve-fintechu-webinar\nPopis: \nVelvyslanectví Česk
 é republiky v Pretorii a Mauritius Africa Fintech Hub (MAFH) Vás srdečn
 ě zvou k účasti na připravovaném webináři věnovaném jedné z nejz
 ásadnějších technologií současnosti – blockchainu.Datum: středa 8
 . října 2025Čas: 13:00 – 14:15 (českého času) | 15:00 – 16:15 MU
 TForma: online (Zoom)Webinář propojí přední odborníky z Mauricia\, C
 hile a České republiky\, kteří se podělí o své zkušenosti a názor
 y na to\, jak blockchain ovlivňuje: trendy ve fintechu a kryptoměnách\,
  kyberbezpečnost a digitální finance\, mezinárodní spolupráci a pře
 shraniční propojení. Hlavní řečníciFrans Marx\, CEO\, SecureKey Gr
 oup Mauritius – expert na digitální důvěru a kyberbezpečnostSamim M
 ohabuth\, Founder\, The Hub Business Solution – blockchain architekt a f
 intech inovátorJazmín Jorquera\, viceprezidentka\, FinteChile – expert
 ka v oblasti digitální transformace a kryptoměnDavid Revak\, právní p
 oradce\, CzechInvest – právní a politický expert ve fintechuOndřej P
 olák\, CEO\, Česká blockchainová asociace – propagátor blockchainu 
 a budovatel ekosystémuSpeciální hostéJeho Excelence Tomáš Uličný\,
  velvyslanec České republikySachin Mohabeer\, zástupce generálního ř
 editele\, Economic Development Board (EDB) Mauritius Proč se připojitWe
 binář nabídne nejen prostor k získání nových poznatků\, ale také 
 k navázání kontaktů mezi fintech ekosystémy\, sdílení osvědčenýc
 h postupů a hledání možností spolupráce napříč kontinenty.Těší
 me se na Vaši účast a aktivní zapojení do této inspirativní diskuse
 !V případě zájmu se prosím registrujte na tomto odkaze.\n\n
URL:https://www.spcr.cz/blockchain-ve-fintechu-webinar
DTSTART:20251008T130000
DTEND:20251008T141500
LOCATION:
END:VEVENT
END:VCALENDAR
