BEGIN:VCALENDAR
PRODID:-//eluceo/ical//2.0/EN
VERSION:2.0
CALSCALE:GREGORIAN
BEGIN:VEVENT
UID:0424d000b18e0470c3956814e0bea522
DTSTAMP:20260423T150422Z
SUMMARY:Krizová simulace pro vedení firem
DESCRIPTION:Název akce: Krizová simulace pro vedení firem\nURL: https://
 www.spcr.cz/krizova-simulace-pro-vedeni-firem\nPopis: \n\nJak by české f
 irmy a infrastruktura obstály v případě vážné bezpečnostní krize 
 ve východní Evropě? Jsou připraveny na narušení dodavatelských řet
 ězců\, masivní migrační vlnu či přetížení logistických a energe
 tických kapacit?Centrum pro informovanou společnost\, Bezpečnostní cen
 trum Evropské hodnoty a Svaz průmyslu a dopravy ČR vás zvou k účasti
  na simulaci krizového scénáře\, která je součástí připravované 
 platformy Připravené Česko.Tato simulace nabízí výjimečnou příle
 žitost vyzkoušet si rozhodování v krizovém prostředí\, identifikova
 t slabá místa ve vlastní připravenosti a zároveň přispět svým poh
 ledem k posilování celospolečenské odolnosti. V roli poradců se zú
 častní zástupci z organizací: NÚKIB\, Český telekomunikační úřa
 d\, Ministerstvo průmyslu a obchodu\, Ministerstvo vnitra\, Ministerstvo 
 obrany\, Generální štáb Armády ČR.Podrobnosti naleznete v sekni Ke s
 tažení. ⇣⇣⇣Registrační formulář \n
URL:https://www.spcr.cz/krizova-simulace-pro-vedeni-firem
DTSTART:20251030T083000
DTEND:20251030T123000
LOCATION:Svaz průmyslu a dopravy ČR
END:VEVENT
END:VCALENDAR
