BEGIN:VCALENDAR
PRODID:-//eluceo/ical//2.0/EN
VERSION:2.0
CALSCALE:GREGORIAN
BEGIN:VEVENT
UID:cd28b94354161a675ec8cccc3c8470fa
DTSTAMP:20260423T150421Z
SUMMARY:Mezinárodní konference o národní odolnosti jako klíčovém prv
 ku bezpečnosti
DESCRIPTION:Název akce: Mezinárodní konference o národní odolnosti jak
 o klíčovém prvku bezpečnosti\nURL: https://www.spcr.cz/mezinarodni-kon
 ference-o-narodni-odolnosti-jako-klicovem-prvku-bezpecnosti\nPopis: \nDovo
 lujeme si Vás pozvat na mezinárodní konferenci „Národní odolnost ja
 ko klíčový prvek národní bezpečnosti: architektura\, výzvy a cesty 
 posílení“\, která se bude konat 27. listopadu 2025 v ukrajinském 
 Ivano-Frankivsku.\nCíl konferenceKonference bude platformou pro diskusi t
 eoretických i praktických aspektů posilování národní odolnosti v ko
 ntextu současných hrozeb. Cílem je propojit odborníky z akademické sf
 éry\, státní správy\, samospráv\, expertní komunity\, občanské spo
 lečnosti i mezinárodních partnerů a společně hledat účinné strate
 gie pro zajištění dlouhodobé bezpečnosti a obnovy státu v poválečn
 ém období.Hlavní tematické okruhyBezpečnost kritické infrastruktury 
 a právní rámce její ochranyFormování kultury odolnosti a mezisektoro
 vá spolupráceFungování kritické infrastruktury ve válečných a hybr
 idních hrozbáchMezinárodní bezpečnostní spolupráce a koordinace pro
 ti přeshraničním hrozbámVyužití nových technologií (AI\, IoT\, 5G)
  pro zvýšení bezpečnostiPartnerství veřejného a soukromého sektoru
  v oblasti kyberbezpečnostiLidský faktor\, kultura bezpečnosti a vzděl
 ávání odborníkůImplementace evropských a světových standardů ochr
 any infrastrukturyRole veřejně-soukromého a mezinárodního partnerstv
 í při obnově a modernizaci infrastrukturySpoluorganizátořiMinisterstv
 o energetiky Ukrajiny\, Výbor Verchovní rady Ukrajiny pro energetiku a k
 omunální služby\, Státní služba pro mimořádné situace Ukrajiny\, 
 Národní akademie Bezpečnostní služby Ukrajiny\, ČVUT v Praze\, Jagel
 lonská univerzita\, Gdaňská univerzita\, Česko-ukrajinská obchodní a
  průmyslová komora\, Ivano-Frankivská oblastní a městská správa a d
 alší partneři.Kontakt na organizátora:Dmytro Dzvinčuk📞 +380 50 927
  42 11 (Viber\, WhatsApp)📧 dzvin56@ukr.net \n
URL:https://www.spcr.cz/mezinarodni-konference-o-narodni-odolnosti-jako-kli
 covem-prvku-bezpecnosti
DTSTART:20251127T080000
DTEND:20251127T180000
LOCATION:Ivano-Frankivsk
END:VEVENT
END:VCALENDAR
