BEGIN:VCALENDAR
PRODID:-//eluceo/ical//2.0/EN
VERSION:2.0
CALSCALE:GREGORIAN
BEGIN:VEVENT
UID:b65da8d9682bd5d59cc0cb850bd5a5bf
DTSTAMP:20260423T150421Z
SUMMARY:India Meets Czechia III
DESCRIPTION:Název akce: India Meets Czechia III\nURL: https://www.spcr.cz/
 india-meets-czechia-iii\nPopis: \nDovolujeme si Vás pozvat na třetí pod
 nikatelské setkání India Meets Czechia – Let’s Talk Business\, kter
 é se uskuteční 12. listopadu 2025 od 14:30 do 18:00 v prostorách Minis
 terstva průmyslu a obchodu\, Na Františku 32\, Praha 1.Akce se tentokrá
 t zaměří na prohloubení česko-indické spolupráce v oblastech chytr
 é dopravy\, chytrých měst\, čistého životního prostředí a zelené
  energie. \nCílem fóra je představit investiční a obchodní příle
 žitosti na rychle rostoucím indickém trhu udržitelných technologií\,
  podpořit mezinárodní spolupráci v oblastech Smart Cities\, e-mobility
 \, čistých technologií a cirkulární ekonomiky a propojit české a in
 dické subjekty z veřejného i soukromého sektoru.Indie v současnosti p
 rochází zásadní transformací směrem k udržitelnému rozvoji a zelen
 ým inovacím. V oblasti obnovitelných zdrojů energie již dosáhla inst
 alovaného výkonu přes 230 GW a dynamicky rozvíjí trh s čistými tech
 nologiemi\, elektromobilitou a chytrou infrastrukturou.České firmy tak m
 ají jedinečnou příležitost zapojit se do společných projektů\, tec
 hnologických partnerství a investic v oblastech jako jsou obnovitelná e
 nergie a čisté technologie\, e-mobility\, chytrá města a doprava či n
 akládání s vodou a odpady.V rámci fóra vystoupí velvyslanec Indie v 
 ČR Raveesh Kumar\, prezident Svazu průmyslu a dopravy ČR Jan Rafaj\, Da
 vid Müller z Ministerstva průmyslu a obchodu\, David Surý z Ministerstv
 a životního prostředí a zástupci indických společností Invest Indi
 a\, Wamser & Batra i českých firem se zkušenostmi z indického trhu.Sou
 částí programu bude také networkingové setkání u lehkého občerstv
 ení.Setkání pořádá Svaz průmyslu a dopravy ČR ve spolupráci s Vel
 vyslanectvím Indie v Praze a Ministerstvem průmyslu a obchodu ČR.Progra
 m akce najdete v přiloženém letáku. Účast je zdarma\, je však podm
 íněna registrací na tomto odkazu nejpozději do 7. listopadu 2025.Těš
 íme se na Vaši účast.\n
URL:https://www.spcr.cz/india-meets-czechia-iii
DTSTART:20251112T143000
DTEND:20251112T180000
LOCATION:Praha
END:VEVENT
END:VCALENDAR
