BEGIN:VCALENDAR
PRODID:-//eluceo/ical//2.0/EN
VERSION:2.0
CALSCALE:GREGORIAN
BEGIN:VEVENT
UID:e6c3a44aa095ddeb0c93baeb641f36cd
DTSTAMP:20260423T150421Z
SUMMARY:EU–Ethiopia Business Forum 2026
DESCRIPTION:Název akce: EU–Ethiopia Business Forum 2026\nURL: https://ww
 w.spcr.cz/eu-ethiopia-business-forum-2026\nPopis: \nDovolujeme si Vás inf
 ormovat o připravovaném EU–Ethiopia Business Foru 2026\, které se usk
 uteční ve dnech 20.–21. dubna 2026 v Addis Abebě pod záštitou Evrop
 ské komise. \nAkce představuje klíčový přípravný krok pro budouc
 í projekty a investiční iniciativy v rámci strategie Global Gateway a 
 zároveň významnou příležitost pro prezentaci českých firem\, techn
 ologií a odborných kapacit v oblastech:digitální transformace\,čisté
  energetiky\,zdravotnictví audržitelných zemědělsko-potravinářskýc
 h hodnotových řetězců.Součástí programu budou networkingové akce\,
  tematické sekce a workshopy zaměřené na čtyři klíčové oblasti 
 – Digital Transformation\, Clean Energy\, Sustainable Agri-Food a Health
 .Firmy a projekty se mohou prezentovat prostřednictvím „Investment Wal
 l“\, „Pitching Sessions“ nebo cílených „Matchmakingových“ set
 kání. Uzávěrka přihlášek pro zařazení do programu business fóra 
 je stanovena na 11. listopadu 2025.Podrobnější informace o fóru nalezn
 ete zde. V případě zájmu o více informací se prosím obraťte na pan
 í Evu Urbanovou (eva.urbanova@mzv.gov.cz\, tel. 224 182 648).\n
URL:https://www.spcr.cz/eu-ethiopia-business-forum-2026
DTSTART:20260420T080000
DTEND:20260421T180000
LOCATION:Addis Abeba
END:VEVENT
END:VCALENDAR
