BEGIN:VCALENDAR
PRODID:-//eluceo/ical//2.0/EN
VERSION:2.0
CALSCALE:GREGORIAN
BEGIN:VEVENT
UID:f253d914c401bb8998dc44b1fe671905
DTSTAMP:20260423T125335Z
SUMMARY:Poznejte region Dnipro – webinář
DESCRIPTION:Název akce: Poznejte region Dnipro – webinář\nURL: https:/
 /www.spcr.cz/poznejte-region-dnipro-webinar\nPopis: \n\nČesko-ukrajinská
  hospodářská komora vás srdečně zve na první český ZOOM webinář
  ze série věnované ukrajinským regionům. Tentokrát se zaměří na r
 egion Dnipro\, který nabízí řadu příležitostí pro rozvoj spoluprá
 ce a investic.Datum: pátek 24. října 2025Čas: 9:00–10:30 (SEČ)Co se
  dozvíte:Klíčové informace o regionu DniproPřehled podnikatelského p
 otenciálu a investičních příležitostíInspirativní příklady úsp
 ěšných českých firem\, které již v regionu působíNa webináři vy
 stoupí:Václav Kallus – první tajemník a diplomat pro spolupráci s D
 něpropetrovskou oblastíRoksolana Dryndak – Ministerstvo průmyslu a ob
 chodu ČR\, Business Klub UkrajinaValentyna Zatyshniak – ředitelka Dně
 propetrovské regionální investiční agenturyDina Sidash – viceprezid
 entka Dněpropetrovské obchodní a průmyslové komoryVira Savchenko – 
 CEO\, BDO UkraineProč se připojit:Získáte přímý přehled o regionu 
 Dnipro\, jeho rozvojových plánech a možnostech spolupráce. Navážete 
 kontakt s klíčovými představiteli institucí\, které formují česko-
 ukrajinské vztahy a podnikání.Akce vyžaduje potvrzenou registraci a pr
 oběhne v angličtině. Registrace zde \n
URL:https://www.spcr.cz/poznejte-region-dnipro-webinar
DTSTART:20251024T090000
DTEND:20251024T103000
LOCATION:
END:VEVENT
END:VCALENDAR
