BEGIN:VCALENDAR
PRODID:-//eluceo/ical//2.0/EN
VERSION:2.0
CALSCALE:GREGORIAN
BEGIN:VEVENT
UID:43ce29c69a10a386fea9d9eb2f39e85d
DTSTAMP:20260423T145939Z
SUMMARY:Kybernetická bezpečnost v praxi: Jak chránit sebe i firmu online
DESCRIPTION:Název akce: Kybernetická bezpečnost v praxi: Jak chránit se
 be i firmu online\nURL: https://www.spcr.cz/kyberneticka-bezpecnost-v-prax
 i-jak-chranit-sebe-i-firmu-online\nPopis: \n\nNaučte se rozpoznat podvodn
 é e-maily\, odkazy i rizika při komunikaci se zahraničními partneryZí
 skejte praktické rady pro ochranu dat a bezpečnost ve firměPodívejte s
 e na konkrétní ukázky kyberútoků\, které cílí na exportéry a jeji
 ch partneryChraňte své soukromí a obchodní aktivity díky doporučení
 m od experta z NÚKIBVíce informací o akci zde.\n
URL:https://www.spcr.cz/kyberneticka-bezpecnost-v-praxi-jak-chranit-sebe-i-
 firmu-online
DTSTART:20251030T100000
DTEND:20251030T120000
LOCATION:ZOOM\, Online\, Česká republika
END:VEVENT
END:VCALENDAR
