BEGIN:VCALENDAR
PRODID:-//eluceo/ical//2.0/EN
VERSION:2.0
CALSCALE:GREGORIAN
BEGIN:VEVENT
UID:fe2b399c6e56c2500353eceed3c60e81
DTSTAMP:20260423T173438Z
SUMMARY:Prezentace jednoduše a výstižně
DESCRIPTION:Název akce: Prezentace jednoduše a výstižně\nURL: https://
 www.spcr.cz/prezentace-jednoduse-vystizne\nPopis: \n\nZískejte techniky p
 ro stručné a přesvědčivé sděleníNaučte se vysvětlit složité in
 formace jasně a srozumitelněPřizpůsobte svou prezentaci i náročnému
  publikuVyzkoušejte si praxi s AI a odneste si záznam pro další tréni
 nkVíce informací o akci k dispozici zde.\n
URL:https://www.spcr.cz/prezentace-jednoduse-vystizne
DTSTART:20251105T093000
DTEND:20251105T163000
LOCATION:CzechTrade\, Štěpánská 567/15\, 12000 Praha 2\, Česká republ
 ika
END:VEVENT
END:VCALENDAR
