BEGIN:VCALENDAR
PRODID:-//eluceo/ical//2.0/EN
VERSION:2.0
CALSCALE:GREGORIAN
BEGIN:VEVENT
UID:067f074dd66bbda81188f525d57c11cc
DTSTAMP:20260423T162941Z
SUMMARY:Online seminář: Cesta privátní značky k evropským a kanadský
 m retailovým řetězcům
DESCRIPTION:Název akce: Online seminář: Cesta privátní značky k evrop
 ským a kanadským retailovým řetězcům\nURL: https://www.spcr.cz/onlin
 e-seminar-cesta-privatni-znacky-k-evropskym-kanadskym-retailovym-retezcum\
 nPopis: \n\nZjistěte\, jak se stát dodavatelem privátních značek pro 
 evropské a kanadské retailové řetězceSeznamte se se strukturou a fung
 ováním nákupní aliance AMS SourcingNaučte se\, co je potřeba k napln
 ění požadavků na dodavatele a specifikací produktůInspirujte se př
 íklady úspěšné spolupráce evropských výrobců a objevte příleži
 tosti pro české firmyVíce informací o akci k dispozici zde. \n
URL:https://www.spcr.cz/online-seminar-cesta-privatni-znacky-k-evropskym-ka
 nadskym-retailovym-retezcum
DTSTART:20251107T100000
DTEND:20251107T113000
LOCATION:
END:VEVENT
END:VCALENDAR
