BEGIN:VCALENDAR
PRODID:-//eluceo/ical//2.0/EN
VERSION:2.0
CALSCALE:GREGORIAN
BEGIN:VEVENT
UID:788bf9bb2577f934b843ee6661c1c5b3
DTSTAMP:20260423T130206Z
SUMMARY:Online seminář: Ochrana duševního vlastnictví při exportu
DESCRIPTION:Název akce: Online seminář: Ochrana duševního vlastnictví
  při exportu\nURL: https://www.spcr.cz/online-seminar-ochrana-dusevniho-v
 lastnictvi-pri-exportu\nPopis: \n\nObjevte různé formy ochrany duševní
 ho vlastnictví a jejich využití doma i v zahraničíNaučte se\, kdy zv
 olit patent\, ochrannou známku\, průmyslový vzor\, utajení nebo zveře
 jněníZískejte praktické tipy pro tvorbu originálních názvů značek
  a ochranu designu výrobků\, aplikací i webových rozhraníVytvořte ja
 sná pravidla práce s duševním vlastnictvím a předcházejte sporůmBu
 ďte #Ready2Export. Získejte know-how a expandujte do světaVíce informa
 cí o akci k dispozici zde. \n
URL:https://www.spcr.cz/online-seminar-ochrana-dusevniho-vlastnictvi-pri-ex
 portu
DTSTART:20251113T100000
DTEND:20251113T113000
LOCATION:
END:VEVENT
END:VCALENDAR
