BEGIN:VCALENDAR
PRODID:-//eluceo/ical//2.0/EN
VERSION:2.0
CALSCALE:GREGORIAN
BEGIN:VEVENT
UID:8bd563f5c51d7eefbd90099bfdad8e1f
DTSTAMP:20260423T150422Z
SUMMARY:Online seminář: Obchodní expanze do Koreje a Japonska - trendy a
  příležitosti
DESCRIPTION:Název akce: Online seminář: Obchodní expanze do Koreje a Ja
 ponska - trendy a příležitosti\nURL: https://www.spcr.cz/online-seminar
 -obchodni-expanze-do-koreje-japonska-trendy-prilezitosti\nPopis: \n\nObjev
 te exportní příležitosti v Jižní Koreji a JaponskuZískejte přehled
  o aktuálních trendech\, klíčových sektorech a možnostech spoluprác
 e na obou trzíchNaučte se\, jak efektivně vstoupit na korejský a japon
 ský trh a přizpůsobit se místním specifikůmInspirujte se zkušenostm
 i české firmy MGM ComproVíce informací o akci k dispozici zde. \n
URL:https://www.spcr.cz/online-seminar-obchodni-expanze-do-koreje-japonska-
 trendy-prilezitosti
DTSTART:20251119T100000
DTEND:20251119T113000
LOCATION:
END:VEVENT
END:VCALENDAR
