BEGIN:VCALENDAR
PRODID:-//eluceo/ical//2.0/EN
VERSION:2.0
CALSCALE:GREGORIAN
BEGIN:VEVENT
UID:55a15f36d2cf87ed31d10e79bcde1a3d
DTSTAMP:20260423T125357Z
SUMMARY:Online seminář: Jak chránit váš export s EGAP
DESCRIPTION:Název akce: Online seminář: Jak chránit váš export s EGAP
 \nURL: https://www.spcr.cz/online-seminar-jak-chranit-vas-export-s-egap\nP
 opis: \n\nPoznejte EGAP a jeho roli v podpoře českého exportuZískejte 
 přehled produktů pro pojištění politických a komerčních rizik\, fi
 nancování exportu a záruky za dodávkyNaučte se postupy pro podání 
 žádosti\, uzavření pojištění a získání pojistného plněníZísk
 ejte praktické tipy\, jak využít produkty EGAP pro bezpečný růst a e
 xpanzi na zahraniční trhyVíce informací o akci k dispozici zde. \n
URL:https://www.spcr.cz/online-seminar-jak-chranit-vas-export-s-egap
DTSTART:20251120T100000
DTEND:20251120T113000
LOCATION:
END:VEVENT
END:VCALENDAR
