BEGIN:VCALENDAR
PRODID:-//eluceo/ical//2.0/EN
VERSION:2.0
CALSCALE:GREGORIAN
BEGIN:VEVENT
UID:b1e3ad8ac3016705953e7c402a723a6d
DTSTAMP:20260423T130015Z
SUMMARY:Sociální sítě jako nástroj důvěry a růstu pro exportéry
DESCRIPTION:Název akce: Sociální sítě jako nástroj důvěry a růstu 
 pro exportéry\nURL: https://www.spcr.cz/socialni-site-jako-nastroj-duvery
 -rustu-pro-exportery\nPopis: \n\nNaučte se vytvářet obsah\, který při
 tahuje pozornost a posiluje důvěru u zahraničních zákazníkůVolte ty
 p a formát příspěvků cíleně podle fáze nákupního rozhodováníVy
 užívejte sociální sítě efektivně i bez placené reklamyPlánujte a 
 vyhodnocujte aktivity na sítích strategicky pro podporu exportuVíce inf
 ormací o akci k dispozici zde.\n
URL:https://www.spcr.cz/socialni-site-jako-nastroj-duvery-rustu-pro-exporte
 ry
DTSTART:20251125T093000
DTEND:20251125T163000
LOCATION:CzechTrade\, Štěpánská 567/15\, 12000 Praha 2\, Česká republ
 ika
END:VEVENT
END:VCALENDAR
