BEGIN:VCALENDAR
PRODID:-//eluceo/ical//2.0/EN
VERSION:2.0
CALSCALE:GREGORIAN
BEGIN:VEVENT
UID:ded6fdda0e035edc3723301b339435aa
DTSTAMP:20260423T173106Z
SUMMARY:Czech Challenge Fund - webinář
DESCRIPTION:Název akce: Czech Challenge Fund - webinář\nURL: https://www
 .spcr.cz/czech-challenge-fund-webinar\nPopis: \n\nLetošní kolo přihlá
 šek do programu Czech Challenge Fund je otevřeno do 1. 12. 2025. Projekt
 y musí směřovat Bosny a Hercegoviny\, Etiopie\, Gruzie\, Kambodži\, Mo
 ldavska nebo Zambie. Maximální příspěvek je 40 000 USD.O podporu se m
 ohou ucházet subjekty ze soukromého sektoru\, univerzity a výzkumné in
 stituce\, neziskové organizace a další instituce. Podmínkou účasti j
 e registrace organizace v systému Quantum.Více informací o přihlášk
 ách do Czech Challenge Fund naleznete na webu UNDP Procurement nebo na e-
 mailu cup.applications@undp.org Zájemci se mohou zúčastnit také násl
 edujících informačních webinářů:Jak podat přihlášku do Czech Cha
 llenge Fund – čtvrtek 6. listopadu 2025\, 14:00–15:00 SEČ (v češti
 ně) How to submit Czech Challenge Fund application – středa 19. listop
 adu 2025\, 14:00–15:00 SEČ (v angličtině) Více o programu zde\n
URL:https://www.spcr.cz/czech-challenge-fund-webinar
DTSTART:20251106T140000
DTEND:20251106T150000
LOCATION:
END:VEVENT
END:VCALENDAR
