BEGIN:VCALENDAR
PRODID:-//eluceo/ical//2.0/EN
VERSION:2.0
CALSCALE:GREGORIAN
BEGIN:VEVENT
UID:6eff7b32562594892e3a86f1d0994e90
DTSTAMP:20260423T213223Z
SUMMARY:Veletrh IFSA Africa 2026
DESCRIPTION:Název akce: Veletrh IFSA Africa 2026\nURL: https://www.spcr.cz
 /veletrh-ifsa-africa-2026\nPopis: \nDovolujeme si Vás pozvat k účasti n
 a mezinárodním veletrhu IFSA Africa – International Food Show for Afri
 ca\, který se uskuteční ve dnech 9.–11. června 2026 v Kram Exhibitio
 n Center v Tunisu (Tunisko).Akce se koná pod záštitou Ministerstva prů
 myslu\, dolů a energetiky a Ministerstva obchodu a rozvoje exportu Tunisk
 a.\nVeletrh IFSA Africa je nejvýznamnější obchodní platformou pro agr
 opotravinářský průmysl v Africe\, zaměřenou na podporu obchodu\, tec
 hnologických inovací a mezinárodního partnerství napříč kontinente
 m.Účast nabízí českým firmám jedinečnou příležitost:představit
  své produkty a technologie na dynamicky se rozvíjejících afrických t
 rzích\,navázat strategická partnerství s africkými a regionálními p
 růmyslovými partnery\,setkat se přímo s rozhodovateli\, dovozci a dist
 ributory prostřednictvím exkluzivního B2B programu Hosted Buyers.Souč
 ástí veletrhu bude i atraktivní doprovodný program:Festival tradiční
  kuchyně představující kulinární dědictví z celého světa\,mezin
 árodní gastronomické soutěže jako Carthage International Chef’s Cup
 \, Carthage Africa Pizza Cup\, Cake Design Competition a Carthage Internat
 ional Olive Oil Competition (CIOOC)\,a široká nabídka konferencí\, pan
 elů a workshopů na témata průmyslového rozvoje\, potravinové bezpeč
 nosti a inovací v agropotravinářském sektoru.Podrobné informace k vel
 etrhu naleznete na oficiálních stránkách pořadatele:👉 https://www.
 ifsaafrica.com\n
URL:https://www.spcr.cz/veletrh-ifsa-africa-2026
DTSTART:20260609T080000
DTEND:20260611T180000
LOCATION:Tunis
END:VEVENT
END:VCALENDAR
