BEGIN:VCALENDAR
PRODID:-//eluceo/ical//2.0/EN
VERSION:2.0
CALSCALE:GREGORIAN
BEGIN:VEVENT
UID:d4fc23aae0e5609073e88c29de74cd4e
DTSTAMP:20260423T125335Z
SUMMARY:Energetické investiční fórum EU-Grónsko
DESCRIPTION:Název akce: Energetické investiční fórum EU-Grónsko\nURL:
  https://www.spcr.cz/energeticke-investicni-forum-eu-gronsko\nPopis: \nV r
 ámci partnerství EU–Grónsko a strategie Global Gateway uspořádá Ev
 ropská komise ve středu 19. listopadu 2025 v Bruselu Investiční fórum
  pro energetiku mezi EU a Grónskem\, které bude součástí akce Týden 
 Grónska (Greenland Week).\nBěhem Energetického investičního fóra bud
 ou mít zástupci veřejných institucí\, soukromí investoři a předsta
 vitelé průmyslu příležitost společně prozkoumat příležitosti pro
  udržitelné energetické investice v Grónsku. Dopolední část nabíd
 ne úvodní projevy vysokých představitelů EU a Grónska\, prezentaci v
 lády Grónska o její strategii obnovitelné energie a o plánované výz
 vě k podávání nabídek na velkokapacitní vodní elektrárny\, násled
 ované tematickými panely. Odpoledne bude zaměřeno na B2B a B2G setká
 ní\, která propojí evropské a grónské subjekty\, projektové develop
 ery\, odběratele z průmyslu a finanční instituce.K účasti jsou zvá
 ni zástupci členských států\, zejména společnosti působící v obl
 asti inženýrství\, dodávek a výstavby (EPC)\, včetně sektoru vodní
  energie\, dále dodavatelé zařízení pro větrnou\, solární a obnovi
 telnou energii\, potenciální odběratelé energie (např. v oblastech Po
 wer-to-X\, vodíku\, datových center a dalších energeticky náročných
  odvětví)\, stejně jako veřejní i soukromí investoři a finanční i
 nstituce.Praktické informace – včetně programu\, odkazu na registraci
  a logistických pokynů – jsou k dispozici na vyžádání. V případ
 ě dotazů nebo zájmu o účast kontaktujte prosím poskytovatele služeb
  pro EK na adrese EUGreenland@spectraconsortium.eu\, v kopii na INTPA-B3
 @ec.europa.eu. \n
URL:https://www.spcr.cz/energeticke-investicni-forum-eu-gronsko
DTSTART:20251119T000000
DTEND:20251119T000000
LOCATION:Brusel
END:VEVENT
END:VCALENDAR
