BEGIN:VCALENDAR
PRODID:-//eluceo/ical//2.0/EN
VERSION:2.0
CALSCALE:GREGORIAN
BEGIN:VEVENT
UID:448c0f7e1fbf1789c05af98769ca40b9
DTSTAMP:20260423T145032Z
SUMMARY:NanoCzech 2025 Liberec
DESCRIPTION:Název akce: NanoCzech 2025 Liberec\nURL: https://www.spcr.cz/n
 anoczech-2025-liberec\nPopis: \n\nSrdečně vás zveme na konferenci o nan
 otechnologiích\, které mění svět! Letošní ročník konference NanoC
 zech 2025 se ponese ve znamení ochrany životního prostředí a nanotech
 nologií využitelných v praxi. Podíváte se do laboratoří Technické 
 univerzity v Liberci a dalších inovativních nanofirem z Liberecka\, set
 káte se se špičkami tuzemského i světového nanovýzkumu\, zástupci 
 progresivního byznysu\, investičních společností\, zástupci diplomat
 ických misí i zajímavých zahraničních institucí.Konference se koná
  pod záštitou ministra pro vědu\, výzkum a inovace Marka Ženíška\, 
 ministra průmyslu a obchodu Lukáše Vlčka\, hejtmana Libereckého kraje
  Martina Půty a rektora Technické univerzity v Liberci Miroslava Brzezin
 y.Kdy a kam?Konference NanoCzech 2025 se uskuteční ve čtvrtek 20. listo
 padu 2025 od 9:00 do 19:00 ve dvou blocích.Dopolední blok (9:00 až 12:0
 0): exkurze v laboratořích Technické univerzity v Liberci a ve vybran
 ých nanotechnologických firmách z Libereckého kraje.Odpolední blok (1
 2:00 až 19:00): konference a EXPO v Kulturním centru Vratislavice 10101
 0\, přednášky\, networking a závěrečná panelová diskuze.Pro koho?P
 ro inovativní firmy\, jejich majitele\, CEO’s\, CTO’s\, startupy\, in
 vestory\, zástupce veřejné správy\, vědecko-výzkumné pracovníky a 
 studenty.Co uvidíte?Představíme vám to nejlepší z českého nanoprů
 myslu se zaměřením na ochranu životního prostředí\, ukážeme techn
 ologie uplatnitelné i ve vašem podnikání. Jako bonus jsme si nachystal
 i špičkovou aplikaci a zázemí pro networking. Další info a vstupenk
 y\n
URL:https://www.spcr.cz/nanoczech-2025-liberec
DTSTART:20251120T090000
DTEND:20251120T190000
LOCATION:TUL Liberec\, KC Vratislavice
END:VEVENT
END:VCALENDAR
