BEGIN:VCALENDAR
PRODID:-//eluceo/ical//2.0/EN
VERSION:2.0
CALSCALE:GREGORIAN
BEGIN:VEVENT
UID:098d0b324338c33797eb1f3367fd10d9
DTSTAMP:20260423T163428Z
SUMMARY:Novinky v BOZP s Robertem Křepinským
DESCRIPTION:Název akce: Novinky v BOZP s Robertem Křepinským\nURL: https
 ://www.spcr.cz/novinky-v-bozp-s-robertem-krepinskym-podzim-2025\nPopis: \n
 \nOkresní hospodářská komora Liberec vás společně se Svazem průmys
 lu\, Krajskou nemocnicí Liberec a Spolkem pro rozvoj lidských zdrojů Li
 berec zve na seminář „NOVINKY V BOZP s Robertem Křepinským – pokra
 čování“\, který se uskuteční 5. listopadu 2025 v přednáškovém 
 sále pavilonu „P“ Krajské nemocnice Liberec.PROGRAM:Přehled legisla
 tivních změn v oblasti BOZP v roce 2025Novela zákoníku práce – zák
 on č. 120/2025 Sb.Novela zákona č. 373/2011 Sb.\, o specifických zdrav
 otních službách – zákon č. 120/2025 Sb.\, č. 290/2025 Sb.Novela z
 ákona č. 309/2006 Sb.\, o zajištění dalších podmínek BOZP – zák
 on č. 318/2025 Sb.Nařízení vlády č. 322/2025 Sb.\, o povinnostech za
 městnavatele při pracovních úrazechZákonné pojištění odpovědnost
 i zaměstnavatele za škodu při pracovním úrazu a nemoci z povolání 
 – zkušenosti z praxe (JUDr. Jitka Hejduková)Cena: 3500\,- Kč (+ DPH) 
 / 2700\,- Kč (+ DPH) pro členy OHK Liberec\, SP ČR nebo Spolku pro rozv
 oj Lidských zdrojů LiberecRegistrovat se\n
URL:https://www.spcr.cz/novinky-v-bozp-s-robertem-krepinskym-podzim-2025
DTSTART:20251105T093000
DTEND:20251105T150000
LOCATION:
END:VEVENT
END:VCALENDAR
