BEGIN:VCALENDAR
PRODID:-//eluceo/ical//2.0/EN
VERSION:2.0
CALSCALE:GREGORIAN
BEGIN:VEVENT
UID:56546f214de4d7fe5368f059eaf51559
DTSTAMP:20260423T150421Z
SUMMARY:Dlouhé sezení a stání na pracovišti
DESCRIPTION:Název akce: Dlouhé sezení a stání na pracovišti\nURL: htt
 ps://www.spcr.cz/dlouhe-sezeni-stani-na-pracovisti\nPopis: \n\nOkresní ho
 spodářská komora Liberec vás společně se Svazem průmyslu\, Krajskou
  hygienickou stanicí Libereckého kraje\, Krajskou nemocnicí Liberec a S
 polkem pro rozvoj lidských zdrojů Liberec zve na odborný seminář „P
 rogram podpory zdraví – nástroj zdravotní prevence poskytované zamě
 stnavateli a dlouhodobé stání/sezení jako jedna z příčin kardiovask
 ulárních onemocnění“\, který se uskuteční 2. prosince 2025 v pře
 dnáškovém sále pavilonu „P“ Krajské nemocnice Liberec.PROGRAM:8:4
 5 – 9:00 Registrace účastníků9:00 – 9:05 Zahájení semináře 
 – regionální manažerka Svazu průmyslu a dopravy N. Vojtíšková9:05
  – 9:20 Programy podpory zdraví na pracovištích – N. Michl (MZ)9:2
 0 – 9:35 Problematika dlouhodobého sezení a stání – K. Forysová 
 (KHS LK)9:35 – 9:55 Vliv dlouhodobého sezení a stání na kardiovasku
 lární onemocnění z pohledu kardiologa – T. Roubíček (KNL\, kardiol
 og)9:55 – 10:40 Podpora pohybové aktivity a redukce sedavého chován
 í zaměstnanců: O krok blíž k vyšší produktivitě i spokojenosti 
 – L. Rubín (TUL)10:40 – 11:10 Občerstvení\, networking11:10 – 11
 :30 Pilotní studie dlouhodobého sezení\, nabídka studie dlouhodobého
  stání – J. Loosová (KHS LK)11:30 – 11:45 Podnik podporující zdr
 aví – V. Lipšová (SZÚ)11:45 – 12:00 Zkušenosti s naplňováním 
 podniku podporující zdraví – zástupce zaměstnavatele\, který získ
 al ocenění Podnik podporující zdraví v r. 202412:00 – 12:30 Alkoho
 lismus na pracovišti – Sdružení pro všeobecné služby Anonymním al
 koholikům v ČR\, z.s12:30 – 13:00 Diskuze\, závěrCena: 1950\,- Kč 
 (+ DPH) / 1600\,- Kč (+ DPH) pro členy OHK Liberec\, SP ČR nebo Spolku 
 pro rozvoj Lidských zdrojů LiberecRegistrovat se\n
URL:https://www.spcr.cz/dlouhe-sezeni-stani-na-pracovisti
DTSTART:20251202T084500
DTEND:20251202T130000
LOCATION:Krajská nemocnice Liberec
END:VEVENT
END:VCALENDAR
