BEGIN:VCALENDAR
PRODID:-//eluceo/ical//2.0/EN
VERSION:2.0
CALSCALE:GREGORIAN
BEGIN:VEVENT
UID:7df3656e761fef74918cc44852c5c5ae
DTSTAMP:20260423T150357Z
SUMMARY:African Startup Conference
DESCRIPTION:Název akce: African Startup Conference\nURL: https://www.spcr.
 cz/african-startup-conference\nPopis: \nVelvyslanectví ČR v Alžíru zve
  české firmy na African Startup Conference\, což je největší kontine
 ntální fórum zaměřené na inovace\, podnikání a umělou inteligenci
 . Akce se uskuteční od 6. do 8. prosince 2025 v Alžíru a propojí víc
 e než 500 startupů\, 100 investorů a desítky ministrů z Afriky\, aby 
 společně diskutovali o budoucnosti technologií\, AI a udržitelném roz
 voji Afriky.\nAfrican Startup Conference (ASC) je klíčová africká plat
 forma pro inovace a podnikání\, pořádaná pod vysokou záštitou prezi
 denta Alžírské republiky. Přivádí dohromady startupy\, investory\, v
 lády\, inkubátory a lídry veřejného i soukromého sektoru\, aby spole
 čně podpořili technologický růst a podnikatelský talent na kontinent
 u.ASC usiluje o Afriku\, která vede díky inovacím – kde startupy pros
 perují\, vytvářejí pracovní místa a formují technologie budoucnosti
 . Konference posiluje spolupráci napříč kontinentem\, podporuje globá
 lní ambice afrických firem a přispívá k prosperitě založené na zna
 lostech\, kreativitě a inkluzi.Díky strategickým partnerstvím\, dialog
 u o podpoře inovací a rozvoji talentů ASC pomáhá zajistit\, aby mlad
 á generace měla dovednosti\, kontakty a příležitosti konkurovat na sv
 ětové úrovni. Více informací a možnost přihlášení najdete pod o
 dkazem zde: https://africanstartupconference.org/. \n
URL:https://www.spcr.cz/african-startup-conference
DTSTART:20251206T080000
DTEND:20251208T200000
LOCATION:Alžír
END:VEVENT
END:VCALENDAR
