BEGIN:VCALENDAR
PRODID:-//eluceo/ical//2.0/EN
VERSION:2.0
CALSCALE:GREGORIAN
BEGIN:VEVENT
UID:afd851127409532449035d8251a04a82
DTSTAMP:20260423T150357Z
SUMMARY:Diverzifikace českého exportu
DESCRIPTION:Název akce: Diverzifikace českého exportu\nURL: https://www.
 spcr.cz/diverzifikace-ceskeho-exportu\nPopis: \nZveme vás na Svaz průmys
 lu na minikonferenci Diverzifikace českého exportu a srovnání s vybra
 nými členskými státy EU.\nCílem analýzy je zjistit\, jaké jsou dův
 ody dlouhodobě nízké míry diverzifikace českého exportu do třetích
  zemí mimo členské státy EU a Evropu a jaké je srovnání s vybraným
 i členskými státy EU (Dánsko\, Polsko a Rakousko). Bude zkoumána souv
 islost s vývozem produktů a jejich přidanou hodnotou do zemí EU a mimo
  země EU a srovnání s vybranými státy. Zmapováno bude\, jak se míra
  diverzifikace vyvíjela po vstupu ČR do EU a také v posledních letech\
 , včetně během pandemie covid-19 a jaké byly její dopady na operace f
 irem\, včetně dalších hospodářských krizí.  Analýza by měla zod
 povědět následující dotazy:Jaké jsou hlavní překážky pro rozší
 ření českého exportu do třetích zemí? Identifikace konkrétních pr
 oblémů a souvisejících důvodů\, se kterými se české firmy setkáv
 ají při snaze diverzifikovat svůj export mimo EU.Jaký vliv má míra p
 řidané hodnoty vývozních produktů českého exportu na jeho diverzifi
 kaci? Souvisí tato míra vysoké nebo nízké přidané hodnoty\, a to\, 
 jak ovlivňuje schopnost pronikat na nové trhy?Jaké jsou úspěšné př
 íklady diverzifikace exportu u srovnávaných zemí EU? Zjištění\, zda
  existují specifické strategie nebo politiky\, které byly úspěšné v
  jiných zemích EU a mohly by být aplikovány v ČR.Jaký vliv mají geo
 politické události a ekonomické krize na český export ve srovnání s
  vybranými státy? Dopady brexitu\, protiruských sankcí a dalších po
 dobných událostí včetně možného zapojení českých firem do obnovy
  a rekonstrukce Ukrajiny na podíl diverzifikace českého exportu\, přeo
 rientování na nové trhy apod.Jaké kroky by měla vláda a soukromý se
 ktor podniknout pro zlepšení diverzifikace exportu? Navržení konkrétn
 ích doporučení pro vládu a firmy\, jak lépe podporovat diverzifikaci 
 exportu a zlepšit konkurenceschopnost českých výrobků na globálních
  trzích.Rámcový program minikonference13:45 - zahájení registrací14:
 00 - zahájení akce (Mikuláš Nozar\, zástupce ředitele SMV SP ČR)14:
 10 - prezentace komparativní analýzy (řešitelé analýzy Alice Rezkov
 á a Kryštof Kruliš\, Ph.D\, Asociace pro mezinárodní otázky15:10 - p
 rostor pro dotazy z publika15:30 - networking a občerstvení16:30 - před
 pokládaný konec akceAkce je zdarma\, ale podléhá registraci. [[CTA-tl
 acitko]] Kontaktní osoba:Lukáš Martinlmartin@spcr.cztel: +420 720 358 
 840Minikonference je pořádána v rámci aktivit dle § 320 písm. a) –
  činnosti podporující vzájemná jednání sociálních partnerů na ce
 lostátní nebo krajské úrovni\, která se týkají důležitých zájm
 ů zaměstnavatelů a zaměstnanců v roce 2025.\n
URL:https://www.spcr.cz/diverzifikace-ceskeho-exportu
DTSTART:20251204T140000
DTEND:20251204T163000
LOCATION:Freyova 11\, Praha 9
END:VEVENT
END:VCALENDAR
