BEGIN:VCALENDAR
PRODID:-//eluceo/ical//2.0/EN
VERSION:2.0
CALSCALE:GREGORIAN
BEGIN:VEVENT
UID:c47e7c65b5655bde25915dc587d68341
DTSTAMP:20260423T130007Z
SUMMARY:Business with Japanese government organizations -webinar
DESCRIPTION:Název akce: Business with Japanese government organizations -w
 ebinar\nURL: https://www.spcr.cz/business-japanese-government-organization
 s-webinar\nPopis: \n\nWhat will you encounter when developing business wit
 h Japanese government organizations?Cracking the code to government contra
 cts abroad and breaking into foreign public procurement markets is no smal
 l feat—especially for SMEs navigating the complexities of distant region
 s like Japan. Success demands more than just ambition\; it takes deep mark
 et insight\, strategic preparation\, and a clear understanding of what gov
 ernment buyers truly need.Join this About Japan to hear the inside story f
 rom SVCS Process Innovation\, a pioneering Czech manufacturer of high-tech
  furnaces for the semiconductor and photovoltaic industries. Discover how 
 they turned challenges into opportunities and secured coveted contracts wi
 th Japanese government organizations. Learn from their experience\, gain p
 ractical tips\, and get inspired to take your own global leap.The webinar 
 is targeted to companies seeking to develop business with Japanese governm
 ent organizations. In 40 minutes from your desk\, you will learn more on t
 he challenges of doing business in Japan’s public procurement market.Spe
 akers: Mr. Jarek Dolak\, Director\, SVCS Process Innovation\, Mr. Vladim
 ir Kovacik\, Director VYTEK (SVCS representative in Japan)Moderator: Lyck
 le Griek\, Japan Tax & Public Procurement (JTPP) HelpdeskOrganiser: EU-Ja
 pan Centre for Industrial Cooperation - Brussels OfficeRegistrace\n
URL:https://www.spcr.cz/business-japanese-government-organizations-webinar
DTSTART:20251118T103000
DTEND:20251118T113000
LOCATION:
END:VEVENT
END:VCALENDAR
