BEGIN:VCALENDAR
PRODID:-//eluceo/ical//2.0/EN
VERSION:2.0
CALSCALE:GREGORIAN
BEGIN:VEVENT
UID:df8752aa431ea7830a2ef3ab949285d2
DTSTAMP:20260423T150357Z
SUMMARY:Zákon o kybernetické bezpečnosti prakticky - webinář
DESCRIPTION:Název akce: Zákon o kybernetické bezpečnosti prakticky - we
 binář\nURL: https://www.spcr.cz/zakon-o-kyberneticke-bezpecnosti-praktic
 ky-webinar\nPopis: \n\nSvaz průmyslu zve na online seminář k novému z
 ákonu o kybernetické bezpečnosti a jeho prováděcím předpisům. Semi
 nář poskytne detailní přehled nového zákona o kybernetické bezpečn
 osti (č. 264/2025 Sb.)\, který implementuje evropskou směrnici NIS2 a m
 ění dosavadní právní rámec. V rámci webináře bude poskytnut dost
 atečný prostor pro diskuzi a dotazy.Seminář je primárně určený pro
  střední a velké firmy v odvětví energetika (výroba\, distribuce\, o
 bchod\, elektřina\, plyn\, teplo\, paliva)\, chemie\, doprava\, bankovnic
 tví\, infrastruktura finančních trhů\, zdravotnictví\, pitná voda a 
 kanalizace\, digitální infrastruktura (IXP\, cloud computing\, elektroni
 cké komunikace\, CND\, TLP\, DNS)\, provozovatelé velké výzkumné infr
 astruktury\, vojenský průmysl\, veřejná správa\, výzkum a vývoj\, p
 růmyslová výroba\, potravinářství apod.Seminář vede: Ing. Bc. Adam
  KučínskýTermín: 3. prosince nebo 7. ledna\, 9:00 – 15:00 hCena: 2 9
 00 Kč členský subjekt SP ČR\, 3 900 Kč nečlenský subjektPřihlás
 it seVíce informací naleznete v pozvánce v sekci Ke stažení. ⇣⇣
 ⇣\n
URL:https://www.spcr.cz/zakon-o-kyberneticke-bezpecnosti-prakticky-webinar
DTSTART:20251203T090000
DTEND:20251203T150000
LOCATION:
END:VEVENT
END:VCALENDAR
