BEGIN:VCALENDAR
PRODID:-//eluceo/ical//2.0/EN
VERSION:2.0
CALSCALE:GREGORIAN
BEGIN:VEVENT
UID:0b0e50c8f5c83e7c8b240eeb88fb2733
DTSTAMP:20260423T094936Z
SUMMARY:Zákon o kybernetické bezpečnosti prakticky - webinář
DESCRIPTION:Název akce: Zákon o kybernetické bezpečnosti prakticky - we
 binář\nURL: https://www.spcr.cz/zakon-o-kyberneticke-bezpecnosti-praktic
 ky-webinar-0\nPopis: \n\nPozvánka byla aktualizována 3. 12. 2025Svaz pr
 ůmyslu zve na online seminář k novému zákonu o kybernetické bezpečn
 osti a jeho prováděcím předpisům. Seminář poskytne detailní přehl
 ed nového zákona o kybernetické bezpečnosti (č. 264/2025 Sb.)\, kter
 ý implementuje evropskou směrnici NIS2 a mění dosavadní právní rám
 ec. V rámci webináře bude poskytnut dostatečný prostor pro diskuzi a
  dotazy.Seminář je primárně určený pro střední a velké firmy v od
 větví energetika (výroba\, distribuce\, obchod\, elektřina\, plyn\, te
 plo\, paliva)\, chemie\, doprava\, bankovnictví\, infrastruktura finančn
 ích trhů\, zdravotnictví\, pitná voda a kanalizace\, digitální infra
 struktura (IXP\, cloud computing\, elektronické komunikace\, CND\, TLP\, 
 DNS)\, provozovatelé velké výzkumné infrastruktury\, vojenský průmys
 l\, veřejná správa\, výzkum a vývoj\, průmyslová výroba\, potravin
 ářství apod.Seminář vede: Ing. Bc. Adam KučínskýTermín: 7. ledna\
 , 9:00 – 15:00 hCena: 2 900 Kč bez DPH pro členský subjekt SP ČR\, 
 3 900 Kč bez DPH pro nečlenský subjektPřihlásit seVíce informací n
 aleznete v pozvánce v sekci Ke stažení. ⇣⇣⇣\n
URL:https://www.spcr.cz/zakon-o-kyberneticke-bezpecnosti-prakticky-webinar-
 0
DTSTART:20260107T090000
DTEND:20260107T150000
LOCATION:
END:VEVENT
END:VCALENDAR
