BEGIN:VCALENDAR
PRODID:-//eluceo/ical//2.0/EN
VERSION:2.0
CALSCALE:GREGORIAN
BEGIN:VEVENT
UID:11369f6f4820a082aa9ddf91b15f53cd
DTSTAMP:20260423T130015Z
SUMMARY:Krizová simulace pro vedení firem
DESCRIPTION:Název akce: Krizová simulace pro vedení firem\nURL: https://
 www.spcr.cz/krizova-simulace-pro-vedeni-firem-prosinec-2025\nPopis: \n\nJa
 k by české firmy a infrastruktura obstály v případě vážné bezpeč
 nostní krize ve východní Evropě? Jsou připraveny na narušení dodava
 telských řetězců\, masivní migrační vlnu či přetížení logistic
 kých a energetických kapacit?Centrum pro informovanou společnost\, Bezp
 ečnostní centrum Evropské hodnoty a Svaz průmyslu a dopravy ČR vás z
 vou k účasti na simulaci krizového scénáře\, která je součástí p
 řipravované platformy Připravené Česko.Tato simulace nabízí výjime
 čnou příležitost vyzkoušet si rozhodování v krizovém prostředí\,
  identifikovat slabá místa ve vlastní připravenosti a zároveň přisp
 ět svým pohledem k posilování celospolečenské odolnosti. V roli por
 adců se zúčastní zástupci z organizací: NÚKIB\, Český telekomunik
 ační úřad\, Ministerstvo průmyslu a obchodu\, Ministerstvo vnitra\, M
 inisterstvo obrany\, Generální štáb Armády ČR.Podrobnosti naleznete 
 v sekni Ke stažení. ⇣⇣⇣Registrační formulář \n
URL:https://www.spcr.cz/krizova-simulace-pro-vedeni-firem-prosinec-2025
DTSTART:20251210T083000
DTEND:20251210T143000
LOCATION:Bezpečnostní centrum Evropské hodnoty\, Sněmovní 7\, Praha
END:VEVENT
END:VCALENDAR
