BEGIN:VCALENDAR
PRODID:-//eluceo/ical//2.0/EN
VERSION:2.0
CALSCALE:GREGORIAN
BEGIN:VEVENT
UID:233dedf7893ff60328625135f0805094
DTSTAMP:20260423T163429Z
SUMMARY:EU-Africa Business Forum 
DESCRIPTION:Název akce: EU-Africa Business Forum \nURL: https://www.spcr.c
 z/eu-africa-business-forum-november-2025\nPopis: \n\nThe eighth edition of
  the EU–Africa Business Forum (EABF 2025) will take place on 24–25 Nov
 ember 2025 in Luanda\, Angola\, in person and online. Held in parallel wit
 h the EU–AU Summit\, the Forum acts as a catalyst for connecting capital
  with opportunities across Africa’s most dynamic sectors.Recognised as o
 ne of the most prestigious events celebrating the Africa–Europe partners
 hip\, the EABF 2025 brings together business leaders\, policymakers\, inve
 stors\, and innovators from both continents\, fostering high-level dialogu
 e and strategic collaboration. This year’s edition is closely aligned wi
 th the EU’s Global Gateway Strategy and the African Union’s Agenda 206
 3. The Forum will be inaugurated by leaders from both the European Union a
 nd the African Union.Details and the most recent updatesThe first day\, 24
  November\, will focus on the role of the private sector in developing sus
 tainable solutions across areas such as digital transformation\, circular 
 economy and energy\, transport\, healthcare\, access to finance\, educatio
 n\, and agri-business.The second day\, 25 November\, is dedicated to Priva
 te Sector Engagement and networking\, offering opportunities to visit pavi
 lions showcasing flagship initiatives\, bankable projects\, side events\, 
 and pitching sessions.RegisterPlease note that this invitation does not co
 nstitute a confirmation of participation. All applications will be careful
 ly reviewed\, and you will receive a confirmation email once accepted. \n
URL:https://www.spcr.cz/eu-africa-business-forum-november-2025
DTSTART:20251124T090000
DTEND:20251125T230000
LOCATION:Luanda\, Angola 
END:VEVENT
END:VCALENDAR
