BEGIN:VCALENDAR
PRODID:-//eluceo/ical//2.0/EN
VERSION:2.0
CALSCALE:GREGORIAN
BEGIN:VEVENT
UID:42a95943c50f723f285ebff277d4f2e8
DTSTAMP:20260423T163435Z
SUMMARY:Byznys fórum s podnikatelskou delegací z Mauritánie
DESCRIPTION:Název akce: Byznys fórum s podnikatelskou delegací z Maurit
 ánie\nURL: https://www.spcr.cz/byznys-forum-s-podnikatelskou-delegaci-z-m
 auritanie\nPopis: \nDovolujeme si Vás pozvat na byznys fórum s podnikate
 lskou delegací z Mauritánie\, které se uskuteční v pondělí 8. prosi
 nce 2025 od 9:00 do 13:00 hodin v prostorách Ministerstva zahraničních 
 věcí ČR\, Loretánské náměstí 101/5\, Praha 1.Toto setkání je jed
 inečnou příležitostí k posílení česko-mauritánské spolupráce na
 příč klíčovými sektory mauritánské ekonomiky. Akce nabídne prosto
 r pro představení mauritánských firem\, jejich zaměření a investič
 ní či obchodní možnosti\, stejně jako prezentace českých společnos
 tí\, které mají zájem o vstup na mauritánský trh či navázání par
 tnerských projektů. Součástí programu bude i prostor pro diskusi a ne
 tworking.\nMauritánští účastníci působí v širokém spektru odvět
 ví\, která představují řadu příležitostí pro české firmy:obchod
 zemědělství a potravinářství (se zaměřením na zpracování ryb)zd
 ravotnictvídůlní průmyslbankovnictvíslužby a logistikachemický prů
 mysl (např. výroba mýdla)Setkání nabízí možnost navázat nové kon
 takty\, prozkoumat potenciál mauritánského trhu a otevřít prostor pro
  budoucí obchodní či investiční projekty.Programpředstavení delegac
 e mauritánských firem a jejich zaměřeníprezentace českých společno
 stí se zájmem o spoluprácidiskuse\, networkingRegistraceÚčast je zdar
 ma\, avšak podmíněna registrací. Zájemci se mohou hlásit do 3. prosi
 nce 2025 přes následující odkaz\, nebo přes QR kód.     \n
URL:https://www.spcr.cz/byznys-forum-s-podnikatelskou-delegaci-z-mauritanie
DTSTART:20251208T090000
DTEND:20251208T130000
LOCATION:Loretánské náměstí 101/5\, Praha 1
END:VEVENT
END:VCALENDAR
