BEGIN:VCALENDAR
PRODID:-//eluceo/ical//2.0/EN
VERSION:2.0
CALSCALE:GREGORIAN
BEGIN:VEVENT
UID:b210c243e01a8444ce7c002fa56bebe8
DTSTAMP:20260423T125335Z
SUMMARY:Ohrožené profese a age mgmt.
DESCRIPTION:Název akce: Ohrožené profese a age mgmt.\nURL: https://www.s
 pcr.cz/ohrozene-profese-age-mgmt\nPopis: \nOdborná konference věnovaná 
 ohroženým profesím a age managementu – tématům\, které se stávaj
 í klíčovými pro budoucnost práce i konkurenceschopnost firem.\nPROGRA
 M9:30-9:40        Přivítání - Mgr. Ing. Blanka Šefránková\, 
 ředitelka sekce zaměstnavatelské  SP ČR   9:40-10:20     Prezen
 tace analýzy na téma „Ohrožené profese“\, včetně profesí ohrož
 ených nedostatečnou věkovou diverzitou - Ing. Ludmila Sedlačíková (T
 rexima\, spol. s r.o.)10:30-11:30    Prezentace tématu Age managementu
  z pohledu zaměstnavatelů - Mgr. Ilona Štorová\, RNDr. Michaela Hrdli
 čková\, MBA (Age Management z.s.)Prezentace analýzy měření pracovní
  schopnosti (WAI) - Ing. Jan Šulák\, Ph.D. (Trexima\, spol. s r.o.)11:30
 -12:00    Diskuze\, závěrUvedené časy jednotlivých bodů programu 
 jsou orientační. Prosíme členy o potvrzení účasti do čtvrtka 8. 1
 2. 2025 prostřednictvím formuláře na odkazu: Přihlášení na MINIK
 ONFERENCI Ohrožené profese a age management 9. 12. 2025 – Vyplnit form
 ulářNa akci se lze připojit také online\, prostřednictvím MS Teams. 
 Odkaz bude účastníkům zaslán před konáním akce. \n
URL:https://www.spcr.cz/ohrozene-profese-age-mgmt
DTSTART:20251209T093000
DTEND:20251209T120000
LOCATION:Svaz průmyslu a dopravy České republiky Freyova 948/11 190 00 P
 raha 9 - Vysočany
END:VEVENT
END:VCALENDAR
