BEGIN:VCALENDAR
PRODID:-//eluceo/ical//2.0/EN
VERSION:2.0
CALSCALE:GREGORIAN
BEGIN:VEVENT
UID:9c18e2c21e169c488f45733fff617862
DTSTAMP:20260423T150357Z
SUMMARY:Průmysl 4.0 v praxi - konference
DESCRIPTION:Název akce: Průmysl 4.0 v praxi - konference\nURL: https://ww
 w.spcr.cz/prumysl-40-v-praxi-konference\nPopis: \n\nSvaz průmyslu spolu s
  Národním centrem Průmyslu 4.0. zve na konferenci Průmysl 4.0 v praxi.
  Nenechte si ujít detailní představení konkrétních případových st
 udií špičkových projektů implementace Průmyslu 4.0\, které byly oce
 něny v rámci letošní Československé ceny za Průmysl 4.0. Konferenc
 e se koná 11.12. od 09:30 do 16:00 v prostorách CIIRC ČVUT\, Jugoslávs
 kých partyzánů 1580/3\, 160 00 Praha.Budete mít možnost vidět ty nej
 lepší praktické příklady digitalizace a implementace Průmyslu 4.0\, 
 konkrétní technologické trendy i možnost navštívit špičkové praco
 viště RICAIP Testbedu Praha formou komentovaných prohlídek. Program a
  registraceNa akci je nutné se registrovat prostřednictvím formuláře.
  \n
URL:https://www.spcr.cz/prumysl-40-v-praxi-konference
DTSTART:20251211T093000
DTEND:20251211T163000
LOCATION:CIIRC ČVUT
END:VEVENT
END:VCALENDAR
