BEGIN:VCALENDAR
PRODID:-//eluceo/ical//2.0/EN
VERSION:2.0
CALSCALE:GREGORIAN
BEGIN:VEVENT
UID:03f4eddcb1e2a1be317b1853a97053e8
DTSTAMP:20260423T172959Z
SUMMARY:Bhutan Business Forum 2026
DESCRIPTION:Název akce: Bhutan Business Forum 2026\nURL: https://www.spcr.
 cz/bhutan-business-forum-2026\nPopis: \nZveme vás na Bhutan Business Foru
 m 2026\, které se uskuteční 29. ledna 2026 od 13:30 do 19:00 v Praze v 
 hotelu Mandarin Oriental. Fórum se koná u příležitosti 40. výročí 
 navázání diplomatických vztahů mezi EU a Bhútánem a nabídne jedine
 čnou příležitost seznámit se s obchodními a investičními možnostm
 i v Bhútánu – rychle rostoucím\, politicky stabilním a udržitelně 
 orientovaném trhu.\nProč Bhútán?Bhútán je podle Světové banky (202
 3) nejstabilnější zemí jižní Asie\, s očekávaným růstem HDP 6\,8
  % v roce 2025. Díky dohodě o volném obchodu s Indií nabízí přístu
 p na trh severovýchodní Indie s více než 45 miliony obyvatel. Zárove
 ň je světovým lídrem v udržitelnosti – jako uhlíkově negativní z
 emě.Proč se zúčastnitFórum se uskuteční za účasti předsedy vlád
 y Bhútánu J. E. Dasho Tsheringa Tobgaye a eurokomisaře pro mezinárodn
 í partnerství J. E. Jozefa Síkely. Potkáte klíčové vládní a podni
 katelské lídry z Bhútánu hledající evropské partnery.Získáte deta
 ilní přehled o sektorech\, projektech a možnostech spolupráce\, expanz
 e i investic.Zúčastní se přední evropské finanční instituce včetn
 ě EIB\, rozvojové finanční instituce i soukromí investoři.Budete mí
 t možnost sdílet doporučení k rozvoji podnikatelského prostředí v B
 hútánu a podpoře udržitelného růstu.Hlavní sektoryZelená energie 
 – vodní energie\, rozvoj 1 000 MW solární energie do roku 2030\, pře
 nos a distribuce\, EPC\, BESSICT a IT služby – software\, BPO/KPO\, ang
 licky mluvící kvalifikovaná pracovní sílaHigh-end wellness – léči
 vé a aromatické rostliny\, nutraceutika\, přírodní zdravotnické prod
 uktySpeciální investiční příležitost: Gelephu Mindfulness City (GMC
 )Zvláštní administrativní region GMC na hranici s Indií nabízí př
 íležitosti pro inovativní firmy z EU v oblastech chytrých a udržiteln
 ých měst\, zdraví a wellness\, zelené energie\, financí\, digitální
 ch řešení a logistiky. Registrace a kontaktRegistrace podléhá schvá
 lení organizačním výborem fóra.Registrace: https://gopapace.eventsair
 .com/eu-bhutan-business-forum-2026/registerDotazy: eubhutanforum@gopa.eu 
  \n
URL:https://www.spcr.cz/bhutan-business-forum-2026
DTSTART:20260129T120000
DTEND:20260129T200000
LOCATION:Praha
END:VEVENT
END:VCALENDAR
