BEGIN:VCALENDAR
PRODID:-//eluceo/ical//2.0/EN
VERSION:2.0
CALSCALE:GREGORIAN
BEGIN:VEVENT
UID:1cb45b4280d213a2415b39c40c679ae8
DTSTAMP:20260423T150421Z
SUMMARY:Invest Bhutan Forum 2026
DESCRIPTION:Název akce: Invest Bhutan Forum 2026\nURL: https://www.spcr.cz
 /invest-bhutan-forum-2026\nPopis: \nZveme vás na Invest Bhutan Forum\, kt
 eré se uskuteční 12.–13. února 2026 v Thimphu\, v Bhútánu. Akce sl
 ouží jako strategická platforma pro setkání vládních institucí\, m
 ístních podnikatelů a mezinárodních investorů a jejím cílem je př
 edstavit Bhútán jako atraktivní destinaci pro přímé zahraniční inv
 estice.\nBhútán nabízí stabilní a předvídatelné podnikatelské pro
 středí\, silný důraz na udržitelnost a dostupnost čisté energie za 
 konkurenceschopné ceny. Díky své strategické poloze a dohodám o voln
 ém obchodu poskytuje přístup na trh více než 1\,3 miliardy spotřebit
 elů v regionu. Fórum reaguje na rostoucí zájem investorů a vytváří
  strukturovaný prostor pro navazování partnerství a prezentaci konkré
 tních investičních projektů.Během dvoudenního programu budou předst
 aveny investičně připravené projekty a prioritní sektory\, účastní
 ci získají přehled o právním a regulačním rámci pro investice v Bh
 útánu a budou mít možnost zapojit se do řízených jednání typu B2B
  a B2G. Součástí programu je také sdílení zkušeností stávajícíc
 h zahraničních investorů\, networking a prostor pro uzavírání memora
 nd o porozumění.Fórum je určeno zahraničním investorům\, firmám se
  zájmem o expanzi v regionu a dalším klíčovým aktérům. V případ
 ě zájmu o investiční příležitosti nebo pro bližší informace k ú
 časti na fóru je k dispozici kontaktní e-mail investbhutan@moice.gov.bt
 . Další podrobnosti o investičním prostředí v Bhútánu naleznete ta
 ké na webových stránkách www.investbhutan.gov.bt.   \n
URL:https://www.spcr.cz/invest-bhutan-forum-2026
DTSTART:20260212T080000
DTEND:20260213T180000
LOCATION:Bhútán
END:VEVENT
END:VCALENDAR
